{"text_format":"1","workbook":"xlsx","n_sheets":31,"sheets":["車両数値入力表","照査1","最回半数値一覧","最回半連結一覧","車両模式図（セミトレーラ）","車両模式図（フルトレーラ）","A①","A②","A③","A④","A⑤","B①","B②","B③","B④","B⑤","C①","C②","C③","C④","C⑤","D①","D②","D③","D④","D⑤","E①","E②","E③","E④","E⑤"],"not_rendered":{"charts":0,"images":3,"macros":1,"external_links":0,"defined_names":27,"comments":1,"pivot_tables":0},"unopened":[],"bounds":{"document_bytes":16777216,"sheet_cells":100000,"rows_first":2000,"rows_last":500,"rows_between":2000,"halvings":0,"cell_chars":16384,"cell_head_chars":4096},"cells_cut":0,"cells_raw":0,"read":"whole","date_system":"1900"}

{"sheet":"車両数値入力表","index":0,"n_rows":31,"n_cols":24,"rows_kept":31,"cut":false,"hidden":false,"merged":[[0,1,0,4],[8,12,8,20],[8,10,8,11],[8,5,8,9],[8,1,8,4],[0,12,0,20],[0,5,0,11],[24,1,24,4],[24,5,24,9],[24,15,24,23],[16,1,16,4],[24,10,24,14],[16,12,16,19],[16,5,16,11]]}
[null,"車両特定情報",null,null,null,"自動車検査証情報（㎜・㎏）",null,null,null,null,null,null,"車両諸元・四面図情報（㎜・㎏）"]
["No.","区分","車名","車台番号\n型式","車番","幅","高さ","乗車\n定員","車両\n重量","前前\n軸重","後前\n軸重","後後\n軸重","軸数","輪数","A輪距","B輪距","C輪距","F-A軸","A軸-\nB軸","B軸-\nC軸","ｶﾌﾟﾗ\nOS"]
[1,"トラ"]
[2,"トラ"]
[3,"トラ"]
[4,"トラ"]
[5,"トラ"]
[]
[null,"車両特定情報",null,null,null,"1ページ目",null,null,null,null,"2ページ目",null,"3ページ目"]
["No.","区分","車名","車台番号\n型式","車番","自重\n(t)","乗員\n(人)","幅\n(㎝)","高さ\n(㎝)","長さ\n(㎝)","L1\n(A-B)","L2\n(A-K)","A軸\n輪数","A軸\n軸重(t)","A軸\nG値","B軸\n輪数","B軸\n軸重(t)","B軸\nG値","C軸\n輪数","C軸\n軸重(t)","C軸\nG値"]
[1,{"$f":"IF(B3=\"\",\"-\",B3)","v":"トラ"},"-","-","-",{"$f":"IF(I3=\"\",\"-\",I3/1000)","v":"-"},{"$f":"IF(H3=\"\",\"-\",H3)","v":"-"},{"$f":"IF(F3=\"\",\"-\",F3/10)","v":"-"},{"$f":"IF(G3=\"\",\"-\",G3/10)","v":"-"},{"$f":"IF(OR(R3=\"\",S3=\"\",U3=\"\"),\"-\",(R3+S3-U3)/10)","v":"-"},{"$f":"IF(S3=\"\",\"-\",S3/10)","v":"-"},{"$f":"IF(OR(S3=\"\",U3=\"\"),\"-\",(S3-U3)/10)","v":"-"},{"$f":"IF(N3=\"\",\"-\",N3)","v":"-"},{"$f":"IF(J3=\"\",\"-\",J3/1000)","v":"-"},{"$f":"IF(O3=\"\",\"-\",IF(O3<=2000,1,IF(AND(2010<=O3,O3<=2250),2,IF(AND(2260<=O3,O3<=2500),3,IF(AND(2510<=O3,O3<=2750),4,IF(AND(2760<=O3,O3<=3000),5,\"error\"))))))","v":"-"},{"$f":"IF(N3=\"\",\"-\",N3)","v":"-"},{"$f":"IF(AND(K3=\"\",L3=\"\"),\"-\",IF(M3=2,IF(L3=\"\",\"-\",L3/1000),IF(M3=3,IF(K3=\"\",\"-\",K3/1000),\"error\")))","v":"-"},{"$f":"IF(P3=\"\",\"-\",IF(P3<=2000,1,IF(AND(2010<=P3,P3<=2250),2,IF(AND(2260<=P3,P3<=2500),3,IF(AND(2510<=P3,P3<=2750),4,IF(AND(2760<=P3,P3<=3000),5,\"error\"))))))","v":"-"},{"$f":"IF(N3=\"\",\"-\",IF(M3=2,\"-\",IF(M3=3,N3,\"error\")))","v":"-"},{"$f":"IF(L3=\"\",\"-\",IF(M3=2,\"-\",IF(M3=3,L3/1000,\"error\")))","v":"-"},{"$f":"IF(Q3=\"\",\"-\",IF(M3=2,\"-\",IF(Q3<=2000,1,IF(AND(2010<=Q3,Q3<=2250),2,IF(AND(2260<=Q3,Q3<=2500),3,IF(AND(2510<=Q3,Q3<=2750),4,IF(AND(2760<=Q3,Q3<=3000),5,\"error\")))))))","v":"-"}]
[2,{"$f":"IF(B4=\"\",\"-\",B4)","v":"トラ"},"-","-","-",{"$f":"IF(I4=\"\",\"-\",I4/1000)","v":"-"},{"$f":"IF(H4=\"\",\"-\",H4)","v":"-"},{"$f":"IF(F4=\"\",\"-\",F4/10)","v":"-"},{"$f":"IF(G4=\"\",\"-\",G4/10)","v":"-"},{"$f":"IF(OR(R4=\"\",S4=\"\",U4=\"\"),\"-\",(R4+S4-U4)/10)","v":"-"},{"$f":"IF(S4=\"\",\"-\",S4/10)","v":"-"},{"$f":"IF(OR(S4=\"\",U4=\"\"),\"-\",(S4-U4)/10)","v":"-"},{"$f":"IF(N4=\"\",\"-\",N4)","v":"-"},{"$f":"IF(J4=\"\",\"-\",J4/1000)","v":"-"},{"$f":"IF(O4=\"\",\"-\",IF(O4<=2000,1,IF(AND(2010<=O4,O4<=2250),2,IF(AND(2260<=O4,O4<=2500),3,IF(AND(2510<=O4,O4<=2750),4,IF(AND(2760<=O4,O4<=3000),5,\"error\"))))))","v":"-"},{"$f":"IF(N4=\"\",\"-\",N4)","v":"-"},{"$f":"IF(AND(K4=\"\",L4=\"\"),\"-\",IF(M4=2,IF(L4=\"\",\"-\",L4/1000),IF(M4=3,IF(K4=\"\",\"-\",K4/1000),\"error\")))","v":"-"},{"$f":"IF(P4=\"\",\"-\",IF(P4<=2000,1,IF(AND(2010<=P4,P4<=2250),2,IF(AND(2260<=P4,P4<=2500),3,IF(AND(2510<=P4,P4<=2750),4,IF(AND(2760<=P4,P4<=3000),5,\"error\"))))))","v":"-"},{"$f":"IF(N4=\"\",\"-\",IF(M4=2,\"-\",IF(M4=3,N4,\"error\")))","v":"-"},{"$f":"IF(L4=\"\",\"-\",IF(M4=2,\"-\",IF(M4=3,L4/1000,\"error\")))","v":"-"},{"$f":"IF(Q4=\"\",\"-\",IF(M4=2,\"-\",IF(Q4<=2000,1,IF(AND(2010<=Q4,Q4<=2250),2,IF(AND(2260<=Q4,Q4<=2500),3,IF(AND(2510<=Q4,Q4<=2750),4,IF(AND(2760<=Q4,Q4<=3000),5,\"error\")))))))","v":"-"}]
[3,{"$f":"IF(B5=\"\",\"-\",B5)","v":"トラ"},"-",{"$f":"IF(D5=\"\",\"-\",D5)","v":"-"},"-","-","-","-","-",{"$f":"IF(OR(R5=\"\",S5=\"\",U5=\"\"),\"-\",R5+S5-U5/10)","v":"-"},"-","-","-","-",{"$f":"IF(O5=\"\",\"-\",IF(O5<=2000,1,IF(AND(2010<=O5,O5<=2250),2,IF(AND(2260<=O5,O5<=2500),3,IF(AND(2510<=O5,O5<=2750),4,IF(AND(2760<=O5,O5<=3000),5,\"error\"))))))","v":"-"},"-",{"$f":"IF(AND(K5=\"\",L5=\"\"),\"-\",IF(M5=2,IF(L5=\"\",\"-\",L5/1000),IF(M5=3,IF(K5=\"\",\"-\",K5/1000),\"error\")))","v":"-"},{"$f":"IF(P5=\"\",\"-\",IF(P5<=2000,1,IF(AND(2010<=P5,P5<=2250),2,IF(AND(2260<=P5,P5<=2500),3,IF(AND(2510<=P5,P5<=2750),4,IF(AND(2760<=P5,P5<=3000),5,\"error\"))))))","v":"-"},{"$f":"IF(N5=\"\",\"-\",IF(M5=2,\"-\",IF(M5=3,N5,\"error\")))","v":"-"},{"$f":"IF(L5=\"\",\"-\",IF(M5=2,\"-\",IF(M5=3,L5/1000,\"error\")))","v":"-"},"-"]
[4,{"$f":"IF(B6=\"\",\"-\",B6)","v":"トラ"},"-",{"$f":"IF(D6=\"\",\"-\",D6)","v":"-"},"-","-","-","-","-","-","-","-","-","-","-","-","-","-","-","-","-"]
[5,{"$f":"IF(B7=\"\",\"-\",B7)","v":"トラ"},{"$f":"IF(C7=\"\",\"-\",C7)","v":"-"},{"$f":"IF(D7=\"\",\"-\",D7)","v":"-"},"-",{"$f":"IF(I7=\"\",\"-\",I7/1000)","v":"-"},{"$f":"IF(H7=\"\",\"-\",H7)","v":"-"},{"$f":"IF(F7=\"\",\"-\",F7/10)","v":"-"},{"$f":"IF(G7=\"\",\"-\",G7/10)","v":"-"},{"$f":"IF(OR(R7=\"\",S7=\"\",U7=\"\"),\"-\",R7+S7-U7/10)","v":"-"},{"$f":"IF(S7=\"\",\"-\",S7/10)","v":"-"},{"$f":"IF(OR(S7=\"\",U7=\"\"),\"-\",(S7-U7)/10)","v":"-"},{"$f":"IF(N7=\"\",\"-\",N7)","v":"-"},{"$f":"IF(J7=\"\",\"-\",J7/1000)","v":"-"},{"$f":"IF(O7=\"\",\"-\",IF(O7<=2000,1,IF(AND(2010<=O7,O7<=2250),2,IF(AND(2260<=O7,O7<=2500),3,IF(AND(2510<=O7,O7<=2750),4,IF(AND(2760<=O7,O7<=3000),5,\"error\"))))))","v":"-"},{"$f":"IF(N7=\"\",\"-\",N7)","v":"-"},{"$f":"IF(AND(K7=\"\",L7=\"\"),\"-\",IF(M7=2,IF(L7=\"\",\"-\",L7/1000),IF(M7=3,IF(K7=\"\",\"-\",K7/1000),\"error\")))","v":"-"},{"$f":"IF(P7=\"\",\"-\",IF(P7<=2000,1,IF(AND(2010<=P7,P7<=2250),2,IF(AND(2260<=P7,P7<=2500),3,IF(AND(2510<=P7,P7<=2750),4,IF(AND(2760<=P7,P7<=3000),5,\"error\"))))))","v":"-"},{"$f":"IF(N7=\"\",\"-\",IF(M7=2,\"-\",IF(M7=3,N7,\"error\")))","v":"-"},{"$f":"IF(L7=\"\",\"-\",IF(M7=2,\"-\",IF(M7=3,L7/1000,\"error\")))","v":"-"},{"$f":"IF(Q7=\"\",\"-\",IF(M7=2,\"-\",IF(Q7<=2000,1,IF(AND(2010<=Q7,Q7<=2250),2,IF(AND(2260<=Q7,Q7<=2500),3,IF(AND(2510<=Q7,Q7<=2750),4,IF(AND(2760<=Q7,Q7<=3000),5,\"error\")))))))","v":"-"}]
[]
[null,"車両特定情報",null,null,null,"自動車検査証情報（㎜・㎏）",null,null,null,null,null,null,"車両諸元・四面図情報（㎜・㎏）"]
["Np.","区分","車名","車台番号\n型式","車番","幅","高さ","最大\n積載量","車両\n重量","前前\n軸重","後前\n軸重","後後\n軸重","軸数","輪数","輪距","K-R","K-X軸","X軸-\nY軸","Y軸-\nZ軸","荷台\nOS"]
[1,"トレ"]
[2,"トレ"]
[3,"トレ"]
[4,"トレ"]
[5,"トレ"]
[]
[null,"車両特定情報",null,null,null,"1ページ目",null,null,null,null,"2ページ目（cm）",null,null,null,null,"3ページ目"]
["No.","区分","車名","車台番号\n型式","車番","自重\n(t)","幅\n(㎝)","高さ\n(㎝)","長さ\n(㎝)","積載\n(t)","L3\n(K-Z)","L４\n(OS)","L5\n(X-Y)","L6\n(Y-Z)","L7\n(K-Y)","X軸\n輪数","X軸\n軸重(t)","X軸\nG値","Y軸\n輪数","Y軸\n軸重(t)","Y軸\nG値","Z軸\n輪数","Z軸\n軸重(t)","Z軸\nG値"]
[1,{"$f":"IF(B19=\"\",\"-\",B19)","v":"トレ"},"-","-","-",{"$f":"IF(I19=\"\",\"-\",I19/1000)","v":"-"},{"$f":"IF(F19=\"\",\"-\",F19/10)","v":"-"},{"$f":"IF(G19=\"\",\"-\",G19/10)","v":"-"},{"$f":"IF(P19=\"\",\"-\",P19/10)","v":"-"},{"$f":"IF(H19=\"\",\"-\",H19/1000)","v":"-"},{"$f":"IF(OR(Q19=\"\",R19=\"\",S19=\"\"),\"-\",ROUNDUP((Q19+R19+S19)/10,0))","v":"-"},{"$f":"IF(T19=\"\",\"-\",ROUNDUP(T19/10,0))","v":"-"},{"$f":"IF(R19=\"\",\"-\",ROUNDUP(R19/10,0))","v":"-"},{"$f":"IF(S19=\"\",\"-\",ROUNDUP(S19/10,0))","v":"-"},{"$f":"IF(OR(K27=\"-\",N27=\"-\"),\"-\",K27-N27)","v":"-"},{"$f":"IF(N19=\"\",\"-\",N19)","v":"-"},{"$f":"IF(J19=\"\",\"-\",J19/1000)","v":"-"},{"$f":"IF(O19=\"\",\"-\",IF(O19<=2000,1,IF(AND(2010<=O19,O19<=2250),2,IF(AND(2260<=O19,O19<=2500),3,IF(AND(2510<=O19,O19<=2750),4,IF(AND(2760<=O19,O19<=3000),5,\"error\"))))))","v":"-"},{"$f":"IF(N19=\"\",\"-\",IF(M19<=1,\"-\",N19))","v":"-"},{"$f":"IF(AND(L19=\"\",K19=\"\"),\"-\",IF(M19<=1,\"-\",IF(M19<=2,L19/1000,IF(M19=3,K19/1000))))","v":"-"},{"$f":"IF(O19=\"\",\"-\",IF(M19<=1,\"-\",IF(O19<=2000,1,IF(AND(2010<=O19,O19<=2250),2,IF(AND(2260<=O19,O19<=2500),3,IF(AND(2510<=O19,O19<=2750),4,IF(AND(2760<=O19,O19<=3000),5,\"error\")))))))","v":"-"},{"$f":"IF(N19=\"\",\"-\",IF(M19<=2,\"-\",IF(M19=3,N19,\"error\")))","v":"-"},{"$f":"IF(L19=\"\",\"-\",IF(M19<=2,\"-\",IF(M19=3,L19/1000,\"error\")))","v":"-"},{"$f":"IF(O19=\"\",\"-\",IF(M19<=2,\"-\",IF(O19<=2000,1,IF(AND(2010<=O19,O19<=2250),2,IF(AND(2260<=O19,O19<=2500),3,IF(AND(2510<=O19,O19<=2750),4,IF(AND(2760<=O19,O19<=3000),5,\"error\")))))))","v":"-"}]
[2,"トレ","-","-","-",{"$f":"IF(I20=\"\",\"-\",I20/1000)","v":"-"},{"$f":"IF(F20=\"\",\"-\",F20/10)","v":"-"},{"$f":"IF(G20=\"\",\"-\",G20/10)","v":"-"},{"$f":"IF(P20=\"\",\"-\",P20/10)","v":"-"},{"$f":"IF(H20=\"\",\"-\",H20/1000)","v":"-"},{"$f":"IF(OR(Q20=\"\",R20=\"\",S20=\"\"),\"-\",ROUNDUP((Q20+R20+S20)/10,0))","v":"-"},{"$f":"IF(T20=\"\",\"-\",ROUNDUP(T20/10,0))","v":"-"},{"$f":"IF(R20=\"\",\"-\",ROUNDUP(R20/10,0))","v":"-"},{"$f":"IF(S20=\"\",\"-\",ROUNDUP(S20/10,0))","v":"-"},"-",{"$f":"IF(N20=\"\",\"-\",N20)","v":"-"},{"$f":"IF(J20=\"\",\"-\",J20/1000)","v":"-"},{"$f":"IF(O20=\"\",\"-\",IF(O20<=2000,1,IF(AND(2010<=O20,O20<=2250),2,IF(AND(2260<=O20,O20<=2500),3,IF(AND(2510<=O20,O20<=2750),4,IF(AND(2760<=O20,O20<=3000),5,\"error\"))))))","v":"-"},{"$f":"IF(N20=\"\",\"-\",IF(M20<=1,\"-\",N20))","v":"-"},{"$f":"IF(AND(L20=\"\",K20=\"\"),\"-\",IF(M20<=1,\"-\",IF(M20<=2,L20/1000,IF(M20=3,K20/1000))))","v":"-"},{"$f":"IF(O20=\"\",\"-\",IF(M20<=1,\"-\",IF(O20<=2000,1,IF(AND(2010<=O20,O20<=2250),2,IF(AND(2260<=O20,O20<=2500),3,IF(AND(2510<=O20,O20<=2750),4,IF(AND(2760<=O20,O20<=3000),5,\"error\")))))))","v":"-"},{"$f":"IF(N20=\"\",\"-\",IF(M20<=2,\"-\",IF(M20=3,N20,\"error\")))","v":"-"},{"$f":"IF(L20=\"\",\"-\",IF(M20<=2,\"-\",IF(M20=3,L20/1000,\"error\")))","v":"-"},{"$f":"IF(O20=\"\",\"-\",IF(M20<=2,\"-\",IF(O20<=2000,1,IF(AND(2010<=O20,O20<=2250),2,IF(AND(2260<=O20,O20<=2500),3,IF(AND(2510<=O20,O20<=2750),4,IF(AND(2760<=O20,O20<=3000),5,\"error\")))))))","v":"-"}]
[3,{"$f":"IF(B21=\"\",\"-\",B21)","v":"トレ"},"-","-","-",{"$f":"IF(I21=\"\",\"-\",I21/1000)","v":"-"},{"$f":"IF(F21=\"\",\"-\",F21/10)","v":"-"},"-",{"$f":"IF(P21=\"\",\"-\",P21/10)","v":"-"},{"$f":"IF(H21=\"\",\"-\",H21/1000)","v":"-"},{"$f":"IF(OR(Q21=\"\",R21=\"\",S21=\"\"),\"-\",ROUNDUP((Q21+R21+S21)/10,0))","v":"-"},{"$f":"IF(T21=\"\",\"-\",ROUNDUP(T21/10,0))","v":"-"},{"$f":"IF(R21=\"\",\"-\",ROUNDUP(R21/10,0))","v":"-"},{"$f":"IF(S21=\"\",\"-\",ROUNDUP(S21/10,0))","v":"-"},{"$f":"IF(OR(K29=\"-\",N29=\"-\"),\"-\",K29-N29)","v":"-"},{"$f":"IF(N21=\"\",\"-\",N21)","v":"-"},{"$f":"IF(J21=\"\",\"-\",J21/1000)","v":"-"},{"$f":"IF(O21=\"\",\"-\",IF(O21<=2000,1,IF(AND(2010<=O21,O21<=2250),2,IF(AND(2260<=O21,O21<=2500),3,IF(AND(2510<=O21,O21<=2750),4,IF(AND(2760<=O21,O21<=3000),5,\"error\"))))))","v":"-"},{"$f":"IF(N21=\"\",\"-\",IF(M21<=1,\"-\",N21))","v":"-"},{"$f":"IF(AND(L21=\"\",K21=\"\"),\"-\",IF(M21<=1,\"-\",IF(M21<=2,L21/1000,IF(M21=3,K21/1000))))","v":"-"},{"$f":"IF(O21=\"\",\"-\",IF(M21<=1,\"-\",IF(O21<=2000,1,IF(AND(2010<=O21,O21<=2250),2,IF(AND(2260<=O21,O21<=2500),3,IF(AND(2510<=O21,O21<=2750),4,IF(AND(2760<=O21,O21<=3000),5,\"error\")))))))","v":"-"},{"$f":"IF(N21=\"\",\"-\",IF(M21<=2,\"-\",IF(M21=3,N21,\"error\")))","v":"-"},{"$f":"IF(L21=\"\",\"-\",IF(M21<=2,\"-\",IF(M21=3,L21/1000,\"error\")))","v":"-"},{"$f":"IF(O21=\"\",\"-\",IF(M21<=2,\"-\",IF(O21<=2000,1,IF(AND(2010<=O21,O21<=2250),2,IF(AND(2260<=O21,O21<=2500),3,IF(AND(2510<=O21,O21<=2750),4,IF(AND(2760<=O21,O21<=3000),5,\"error\")))))))","v":"-"}]
[4,{"$f":"IF(B22=\"\",\"-\",B22)","v":"トレ"},"-","-","-","-",{"$f":"IF(F22=\"\",\"-\",F22/10)","v":"-"},"-","-","-","-","-","-","-","-","-","-","-","-","-","-","-","-","-"]
[5,{"$f":"IF(B23=\"\",\"-\",B23)","v":"トレ"},"-","-","-",{"$f":"IF(I23=\"\",\"-\",I23/1000)","v":"-"},{"$f":"IF(F23=\"\",\"-\",F23/10)","v":"-"},{"$f":"IF(G23=\"\",\"-\",G23/10)","v":"-"},{"$f":"IF(P23=\"\",\"-\",P23/10)","v":"-"},{"$f":"IF(H23=\"\",\"-\",H23/1000)","v":"-"},{"$f":"IF(OR(Q23=\"\",R23=\"\",S23=\"\"),\"-\",ROUNDUP((Q23+R23+S23)/10,0))","v":"-"},{"$f":"IF(T23=\"\",\"-\",ROUNDUP(T23/10,0))","v":"-"},{"$f":"IF(R23=\"\",\"-\",ROUNDUP(R23/10,0))","v":"-"},{"$f":"IF(S23=\"\",\"-\",ROUNDUP(S23/10,0))","v":"-"},{"$f":"IF(OR(K31=\"-\",N31=\"-\"),\"-\",K31-N31)","v":"-"},{"$f":"IF(N23=\"\",\"-\",N23)","v":"-"},{"$f":"IF(J23=\"\",\"-\",J23/1000)","v":"-"},{"$f":"IF(O23=\"\",\"-\",IF(O23<=2000,1,IF(AND(2010<=O23,O23<=2250),2,IF(AND(2260<=O23,O23<=2500),3,IF(AND(2510<=O23,O23<=2750),4,IF(AND(2760<=O23,O23<=3000),5,\"error\"))))))","v":"-"},{"$f":"IF(N23=\"\",\"-\",IF(M23<=1,\"-\",N23))","v":"-"},{"$f":"IF(AND(L23=\"\",K23=\"\"),\"-\",IF(M23<=1,\"-\",IF(M23<=2,L23/1000,IF(M23=3,K23/1000))))","v":"-"},{"$f":"IF(O23=\"\",\"-\",IF(M23<=1,\"-\",IF(O23<=2000,1,IF(AND(2010<=O23,O23<=2250),2,IF(AND(2260<=O23,O23<=2500),3,IF(AND(2510<=O23,O23<=2750),4,IF(AND(2760<=O23,O23<=3000),5,\"error\")))))))","v":"-"},{"$f":"IF(N23=\"\",\"-\",IF(M23<=2,\"-\",IF(M23=3,N23,\"error\")))","v":"-"},{"$f":"IF(L23=\"\",\"-\",IF(M23<=2,\"-\",IF(M23=3,L23/1000,\"error\")))","v":"-"},{"$f":"IF(O23=\"\",\"-\",IF(M23<=2,\"-\",IF(O23<=2000,1,IF(AND(2010<=O23,O23<=2250),2,IF(AND(2260<=O23,O23<=2500),3,IF(AND(2510<=O23,O23<=2750),4,IF(AND(2760<=O23,O23<=3000),5,\"error\")))))))","v":"-"}]

{"sheet":"照査1","index":1,"n_rows":6,"n_cols":14,"rows_kept":6,"cut":false,"hidden":false,"merged":[]}
["No.","区分","車名","車台番号\n型式","車番","キングピン-\nトレーラ支点軸\n距離\n（cm）","荷台\nオフセット\n（cm）","空車時\nトレーラ\nタイヤ\n軸重X\n（ｔ）","空車時\nトレーラ\nタイヤ\n軸重Y\n（ｔ）","空車時\nトレーラ\nタイヤ\n軸重G\n（ｔ）","トレーラ後方\n最大積載物\n荷重\n（ｔ）","各軸タイヤ\n最大積載物\n荷重(3軸)\n（ｔ）","限度値\n（ｔ）","照査１\n許容重量\n（ｔ）"]
[1,{"$f":"車両数値入力表!B27","v":"トレ"},{"$f":"車両数値入力表!C27","v":"-"},{"$f":"車両数値入力表!D27","v":"-"},{"$f":"車両数値入力表!E27","v":"-"},{"$f":"車両数値入力表!O27","v":"-"},{"$f":"車両数値入力表!L27","v":"-"},{"$f":"車両数値入力表!Q27","v":"-"},{"$f":"車両数値入力表!T27","v":"-"},{"$f":"車両数値入力表!W27","v":"-"},{"$f":"IF(OR(F2=\"-\",G2=\"-\",H2=\"-\",I2=\"-\",J2=\"-\"),\"-\",L2*3)","v":"-"},{"$f":"IF(OR(F2=\"-\",G2=\"-\",H2=\"-\",I2=\"-\",J2=\"-\"),\"-\",M2-MAX(H2:J2))","v":"-"},{"$f":"IF(OR(F2=\"-\",G2=\"-\",H2=\"-\",I2=\"-\",J2=\"-\"),\"-\",2452/300)","v":"-"},{"$f":"IFERROR(K2/(F2-G2)*F2,\"-\")","v":"-"}]
[2,{"$f":"車両数値入力表!B28","v":"トレ"},{"$f":"車両数値入力表!C28","v":"-"},{"$f":"車両数値入力表!D28","v":"-"},{"$f":"車両数値入力表!E28","v":"-"},{"$f":"車両数値入力表!O28","v":"-"},{"$f":"車両数値入力表!L28","v":"-"},{"$f":"車両数値入力表!Q28","v":"-"},{"$f":"車両数値入力表!T28","v":"-"},{"$f":"車両数値入力表!W28","v":"-"},{"$f":"IF(OR(F3=\"-\",G3=\"-\",H3=\"-\",I3=\"-\",J3=\"-\"),\"-\",L3*3)","v":"-"},{"$f":"IF(OR(F3=\"-\",G3=\"-\",H3=\"-\",I3=\"-\",J3=\"-\"),\"-\",M3-MAX(H3:J3))","v":"-"},{"$f":"IF(OR(F3=\"-\",G3=\"-\",H3=\"-\",I3=\"-\",J3=\"-\"),\"-\",2452/300)","v":"-"},{"$f":"IFERROR(K3/(F3-G3)*F3,\"-\")","v":"-"}]
[3,{"$f":"車両数値入力表!B29","v":"トレ"},{"$f":"車両数値入力表!C29","v":"-"},{"$f":"車両数値入力表!D29","v":"-"},{"$f":"車両数値入力表!E29","v":"-"},{"$f":"車両数値入力表!O29","v":"-"},{"$f":"車両数値入力表!L29","v":"-"},{"$f":"車両数値入力表!Q29","v":"-"},{"$f":"車両数値入力表!T29","v":"-"},{"$f":"車両数値入力表!W29","v":"-"},{"$f":"IF(OR(F4=\"-\",G4=\"-\",H4=\"-\",I4=\"-\",J4=\"-\"),\"-\",L4*3)","v":"-"},{"$f":"IF(OR(F4=\"-\",G4=\"-\",H4=\"-\",I4=\"-\",J4=\"-\"),\"-\",M4-MAX(H4:J4))","v":"-"},{"$f":"IF(OR(F4=\"-\",G4=\"-\",H4=\"-\",I4=\"-\",J4=\"-\"),\"-\",2452/300)","v":"-"},{"$f":"IFERROR(K4/(F4-G4)*F4,\"-\")","v":"-"}]
[4,{"$f":"車両数値入力表!B30","v":"トレ"},{"$f":"車両数値入力表!C30","v":"-"},{"$f":"車両数値入力表!D30","v":"-"},{"$f":"車両数値入力表!E30","v":"-"},{"$f":"車両数値入力表!O30","v":"-"},{"$f":"車両数値入力表!L30","v":"-"},{"$f":"車両数値入力表!Q30","v":"-"},{"$f":"車両数値入力表!T30","v":"-"},{"$f":"車両数値入力表!W30","v":"-"},"-","-","-","-"]
[5,{"$f":"車両数値入力表!B31","v":"トレ"},{"$f":"車両数値入力表!C31","v":"-"},{"$f":"車両数値入力表!D31","v":"-"},{"$f":"車両数値入力表!E31","v":"-"},{"$f":"車両数値入力表!O31","v":"-"},{"$f":"車両数値入力表!L31","v":"-"},{"$f":"車両数値入力表!Q31","v":"-"},{"$f":"車両数値入力表!T31","v":"-"},{"$f":"車両数値入力表!W31","v":"-"},"-","-","-","-"]

{"sheet":"最回半数値一覧","index":2,"n_rows":13,"n_cols":8,"rows_kept":13,"cut":false,"hidden":false,"merged":[[7,0,12,0],[1,0,6,0]]}
[null,{"$f":"MID(CELL(\"filename\",A1),FIND(\"[\",CELL(\"filename\",A1)),99)","v":"[《雛型》特通システム入力補助シート{ﾄﾗ00ﾄﾚ00合成バン・軸00.00・積00.00・総00.00・v230115-2005}().xlsm]最回半数値一覧"}]
["トラクタ","No.","型式","車番","Ｌ1 ： トラクタ軸距","l1 ： トラクタ前輪輪距\nの1/2の値","S ： トラクタ\nカプラオフセット","単位\nmm"]
[null,"A",{"$f":"車両数値入力表!D3","v":0},{"$f":"車両数値入力表!E3","v":0},{"$f":"車両数値入力表!S3","v":0},{"$f":"車両数値入力表!O3/2","v":0},{"$f":"車両数値入力表!U3","v":0}]
[null,"B",{"$f":"車両数値入力表!D4","v":0},{"$f":"車両数値入力表!E4","v":0},{"$f":"車両数値入力表!S4","v":0},{"$f":"車両数値入力表!O4/2","v":0},{"$f":"車両数値入力表!U4","v":0}]
[null,"C"]
[null,"D"]
[null,"E"]
["トレーラ","No.","型式","車番","Ｌ2 ： トレーラ軸距","l2 ： トレーラ輪距\nの1/2の値","トレーラ軸数"]
[null,"①",{"$f":"車両数値入力表!D27","v":"-"},{"$f":"車両数値入力表!E27","v":"-"},{"$f":"車両数値入力表!Q19+車両数値入力表!R19","v":0},{"$f":"車両数値入力表!O19/2","v":0},{"$f":"車両数値入力表!M19","v":0}]
[null,"②",{"$f":"車両数値入力表!D28","v":"-"},{"$f":"車両数値入力表!E28","v":"-"},{"$f":"車両数値入力表!Q20+車両数値入力表!R20","v":0},{"$f":"車両数値入力表!O20/2","v":0},{"$f":"車両数値入力表!M20","v":0}]
[null,"③"]
[null,"④"]
[null,"⑤"]

{"sheet":"最回半連結一覧","index":3,"n_rows":7,"n_cols":10,"rows_kept":7,"cut":false,"hidden":false,"merged":[]}
[{"$f":"MID(CELL(\"filename\",A1),FIND(\"[\",CELL(\"filename\",A1)),99)","v":"[《雛型》特通システム入力補助シート{ﾄﾗ00ﾄﾚ00合成バン・軸00.00・積00.00・総00.00・v230115-2005}().xlsm]最回半連結一覧"}]
["連結\n車両","連結\n最小\n回転\n半径\n（mm）","連結\n車両","連結\n最小\n回転\n半径\n（mm）","連結\n車両","連結\n最小\n回転\n半径\n（mm）","連結\n車両","連結\n最小\n回転\n半径\n（mm）","連結\n車両","連結\n最小\n回転\n半径\n（mm）"]
["A①",{"$f":"IF(INDIRECT(A3&\"!$C$14\")=0,\"数値未入力\",INDIRECT(A3&\"!$C$14\"))","v":"数値未入力"},"B①",{"$f":"IF(INDIRECT(C3&\"!$C$14\")=0,\"数値未入力\",INDIRECT(C3&\"!$C$14\"))","v":"数値未入力"},"C①",{"$f":"IF(INDIRECT(E3&\"!$C$14\")=0,\"数値未入力\",INDIRECT(E3&\"!$C$14\"))","v":"数値未入力"},"D①",{"$f":"IF(INDIRECT(G3&\"!$C$14\")=0,\"数値未入力\",INDIRECT(G3&\"!$C$14\"))","v":"数値未入力"},"E①",{"$f":"IF(INDIRECT(I3&\"!$C$14\")=0,\"数値未入力\",INDIRECT(I3&\"!$C$14\"))","v":"数値未入力"}]
["A②",{"$f":"IF(INDIRECT(A4&\"!$C$14\")=0,\"数値未入力\",INDIRECT(A4&\"!$C$14\"))","v":"数値未入力"},"B②",{"$f":"IF(INDIRECT(C4&\"!$C$14\")=0,\"数値未入力\",INDIRECT(C4&\"!$C$14\"))","v":"数値未入力"},"C②",{"$f":"IF(INDIRECT(E4&\"!$C$14\")=0,\"数値未入力\",INDIRECT(E4&\"!$C$14\"))","v":"数値未入力"},"D②",{"$f":"IF(INDIRECT(G4&\"!$C$14\")=0,\"数値未入力\",INDIRECT(G4&\"!$C$14\"))","v":"数値未入力"},"E②",{"$f":"IF(INDIRECT(I4&\"!$C$14\")=0,\"数値未入力\",INDIRECT(I4&\"!$C$14\"))","v":"数値未入力"}]
["A③",{"$f":"IF(INDIRECT(A5&\"!$C$14\")=0,\"数値未入力\",INDIRECT(A5&\"!$C$14\"))","v":"数値未入力"},"B③",{"$f":"IF(INDIRECT(C5&\"!$C$14\")=0,\"数値未入力\",INDIRECT(C5&\"!$C$14\"))","v":"数値未入力"},"C③",{"$f":"IF(INDIRECT(E5&\"!$C$14\")=0,\"数値未入力\",INDIRECT(E5&\"!$C$14\"))","v":"数値未入力"},"D③",{"$f":"IF(INDIRECT(G5&\"!$C$14\")=0,\"数値未入力\",INDIRECT(G5&\"!$C$14\"))","v":"数値未入力"},"E③",{"$f":"IF(INDIRECT(I5&\"!$C$14\")=0,\"数値未入力\",INDIRECT(I5&\"!$C$14\"))","v":"数値未入力"}]
["A④",{"$f":"IF(INDIRECT(A6&\"!$C$14\")=0,\"数値未入力\",INDIRECT(A6&\"!$C$14\"))","v":"数値未入力"},"B④",{"$f":"IF(INDIRECT(C6&\"!$C$14\")=0,\"数値未入力\",INDIRECT(C6&\"!$C$14\"))","v":"数値未入力"},"C④",{"$f":"IF(INDIRECT(E6&\"!$C$14\")=0,\"数値未入力\",INDIRECT(E6&\"!$C$14\"))","v":"数値未入力"},"D④",{"$f":"IF(INDIRECT(G6&\"!$C$14\")=0,\"数値未入力\",INDIRECT(G6&\"!$C$14\"))","v":"数値未入力"},"E④",{"$f":"IF(INDIRECT(I6&\"!$C$14\")=0,\"数値未入力\",INDIRECT(I6&\"!$C$14\"))","v":"数値未入力"}]
["A⑤",{"$f":"IF(INDIRECT(A7&\"!$C$14\")=0,\"数値未入力\",INDIRECT(A7&\"!$C$14\"))","v":"数値未入力"},"B⑤",{"$f":"IF(INDIRECT(C7&\"!$C$14\")=0,\"数値未入力\",INDIRECT(C7&\"!$C$14\"))","v":"数値未入力"},"C⑤",{"$f":"IF(INDIRECT(E7&\"!$C$14\")=0,\"数値未入力\",INDIRECT(E7&\"!$C$14\"))","v":"数値未入力"},"D⑤",{"$f":"IF(INDIRECT(G7&\"!$C$14\")=0,\"数値未入力\",INDIRECT(G7&\"!$C$14\"))","v":"数値未入力"},"E⑤",{"$f":"IF(INDIRECT(I7&\"!$C$14\")=0,\"数値未入力\",INDIRECT(I7&\"!$C$14\"))","v":"数値未入力"}]

{"sheet":"車両模式図（セミトレーラ）","index":4,"n_rows":3,"n_cols":2,"rows_kept":3,"cut":false,"hidden":false,"merged":[]}
[]
[null,"車両模式図（セミトレーラ）"]
[null,"　※該当する軸数・組合せの車両模式図より、寸法位置を確認してください。"]

{"sheet":"車両模式図（フルトレーラ）","index":5,"n_rows":3,"n_cols":2,"rows_kept":3,"cut":false,"hidden":false,"merged":[]}
[]
[null,"車両模式図（フルトレーラ）"]
[null,"　※該当する軸数・組合せの車両模式図より、寸法位置を確認してください。"]

{"sheet":"A①","index":6,"n_rows":14,"n_cols":6,"rows_kept":14,"cut":false,"hidden":false,"merged":[]}
[]
[null,{"$f":"MID(CELL(\"filename\"),FIND(\"[\",CELL(\"filename\"))+1,FIND(\"]\",CELL(\"filename\"))-FIND(\"[\",CELL(\"filename\"))-1)","v":"《雛型》特通システム入力補助シート{ﾄﾗ00ﾄﾚ00合成バン・軸00.00・積00.00・総00.00・v230115-2005}().xlsm"}]
[null,null,{"$f":"MID(CELL(\"filename\",A2),FIND(\"]\",CELL(\"filename\",A2))+1,99)","v":"A①"}]
[null,"Ｌ1 ： トラクタ軸距",{"$f":"最回半数値一覧!E3","v":0},"mm",null,{"$f":"_xlfn.FORMULATEXT(C4)","v":"=最回半数値一覧!E3"}]
[null,"Ｌ2 ： トレーラ軸距",{"$f":"最回半数値一覧!E9","v":0},"mm",null,{"$f":"_xlfn.FORMULATEXT(C5)","v":"=最回半数値一覧!E9"}]
[null,"l1 ： トラクタ前輪輪距の1/2の値",{"$f":"最回半数値一覧!F3","v":0},"mm",null,{"$f":"_xlfn.FORMULATEXT(C6)","v":"=最回半数値一覧!F3"}]
[null,"l2 ： トレーラ輪距の1/2の値",{"$f":"最回半数値一覧!F9","v":0},"mm",null,{"$f":"_xlfn.FORMULATEXT(C7)","v":"=最回半数値一覧!F9"}]
[null,"S ： トラクタカプラオフセット",{"$f":"最回半数値一覧!G3","v":0},"mm",null,"=最回半数値一覧!G3"]
[null,"トレーラ軸数",{"$f":"最回半数値一覧!G9","v":0},"軸",null,"=最回半数値一覧!G9"]
[null,"ＤＬ ： トレーラタンデム(後軸)中心線から、旋回中心までの距離",{"$f":"IF(C9=1,0,IF(C9=2,300,IF(C9=3,300,\" \")))","v":" "},"mm",null,"=IF(C9=1,0,IF(C9=2,300,IF(C9=3,300,\" \")))"]
[null,"Ｌi ： カプラ中心から旋回中心までの前後距離",{"$f":"IFERROR(IF(C5=\"\",\"\",C5+C10),\"\")","v":""},"mm",null,"=IFERROR(IF(C5=\"\",\"\",C5+C10),\"\")"]
[null,"Ｌｃ ： 計算上過程上必要な値",{"$f":"IFERROR(IF(C5=\"\",\"\",(C11^2+C7^2-C8^2)^0.5),\"\")","v":""},"mm",null,"=IFERROR(IF(C5=\"\",\"\",(C11^2+C7^2-C8^2)^0.5),\"\")"]
[null,null,{"$f":"MID(CELL(\"filename\",A1),FIND(\"]\",CELL(\"filename\",A1))+1,99)","v":"A①"}]
[null,"Ｒ ： 連結時の最小回転半径 ",{"$f":"IF(C5=\"\",\"\",((C4-C8)^2+(C5+C6)^2)^0.5)","v":0},"mm",null,"=IF(C5=\"\",\"\",((C4-C8)^2+(C5+C6)^2)^0.5)"]

{"sheet":"A②","index":7,"n_rows":14,"n_cols":6,"rows_kept":14,"cut":false,"hidden":false,"merged":[]}
[]
[null,{"$f":"MID(CELL(\"filename\"),FIND(\"[\",CELL(\"filename\"))+1,FIND(\"]\",CELL(\"filename\"))-FIND(\"[\",CELL(\"filename\"))-1)","v":"《雛型》特通システム入力補助シート{ﾄﾗ00ﾄﾚ00合成バン・軸00.00・積00.00・総00.00・v230115-2005}().xlsm"}]
[null,null,{"$f":"MID(CELL(\"filename\",A2),FIND(\"]\",CELL(\"filename\",A2))+1,99)","v":"A②"}]
[null,"Ｌ1 ： トラクタ軸距",{"$f":"最回半数値一覧!E3","v":0},"mm",null,{"$f":"_xlfn.FORMULATEXT(C4)","v":"=最回半数値一覧!E3"}]
[null,"Ｌ2 ： トレーラ軸距",{"$f":"最回半数値一覧!E10","v":0},"mm",null,{"$f":"_xlfn.FORMULATEXT(C5)","v":"=最回半数値一覧!E10"}]
[null,"l1 ： トラクタ前輪輪距の1/2の値",{"$f":"最回半数値一覧!F3","v":0},"mm",null,{"$f":"_xlfn.FORMULATEXT(C6)","v":"=最回半数値一覧!F3"}]
[null,"l2 ： トレーラ輪距の1/2の値",{"$f":"最回半数値一覧!F10","v":0},"mm",null,{"$f":"_xlfn.FORMULATEXT(C7)","v":"=最回半数値一覧!F10"}]
[null,"S ： トラクタカプラオフセット",{"$f":"最回半数値一覧!G3","v":0},"mm",null,"=最回半数値一覧!G3"]
[null,"トレーラ軸数",{"$f":"最回半数値一覧!G10","v":0},"軸",null,"=最回半数値一覧!G10"]
[null,"ＤＬ ： トレーラタンデム(後軸)中心線から、旋回中心までの距離",{"$f":"IF(C9=1,0,IF(C9=2,300,IF(C9=3,300,\" \")))","v":" "},"mm",null,"=IF(C9=1,0,IF(C9=2,300,IF(C9=3,300,\" \")))"]
[null,"Ｌi ： カプラ中心から旋回中心までの前後距離",{"$f":"IFERROR(IF(C5=\"\",\"\",C5+C10),\"\")","v":""},"mm",null,"=IFERROR(IF(C5=\"\",\"\",C5+C10),\"\")"]
[null,"Ｌｃ ： 計算上過程上必要な値",{"$f":"IFERROR(IF(C5=\"\",\"\",(C11^2+C7^2-C8^2)^0.5),\"\")","v":""},"mm",null,"=IFERROR(IF(C5=\"\",\"\",(C11^2+C7^2-C8^2)^0.5),\"\")"]
[null,null,{"$f":"MID(CELL(\"filename\",A1),FIND(\"]\",CELL(\"filename\",A1))+1,99)","v":"A②"}]
[null,"Ｒ ： 連結時の最小回転半径 ",{"$f":"IF(C5=\"\",\"\",((C4-C8)^2+(C5+C6)^2)^0.5)","v":0},"mm",null,{"$f":"_xlfn.FORMULATEXT(C14)","v":"=IF(C5=\"\",\"\",((C4-C8)^2+(C5+C6)^2)^0.5)"}]

{"sheet":"A③","index":8,"n_rows":14,"n_cols":6,"rows_kept":14,"cut":false,"hidden":false,"merged":[]}
[]
[null,{"$f":"MID(CELL(\"filename\"),FIND(\"[\",CELL(\"filename\"))+1,FIND(\"]\",CELL(\"filename\"))-FIND(\"[\",CELL(\"filename\"))-1)","v":"《雛型》特通システム入力補助シート{ﾄﾗ00ﾄﾚ00合成バン・軸00.00・積00.00・総00.00・v230115-2005}().xlsm"}]
[null,null,{"$f":"MID(CELL(\"filename\",A2),FIND(\"]\",CELL(\"filename\",A2))+1,99)","v":"A③"}]
[null,"Ｌ1 ： トラクタ軸距",{"$f":"最回半数値一覧!E3","v":0},"mm",null,{"$f":"_xlfn.FORMULATEXT(C4)","v":"=最回半数値一覧!E3"}]
[null,"Ｌ2 ： トレーラ軸距",{"$f":"最回半数値一覧!E11","v":0},"mm",null,{"$f":"_xlfn.FORMULATEXT(C5)","v":"=最回半数値一覧!E11"}]
[null,"l1 ： トラクタ前輪輪距の1/2の値",{"$f":"最回半数値一覧!F3","v":0},"mm",null,{"$f":"_xlfn.FORMULATEXT(C6)","v":"=最回半数値一覧!F3"}]
[null,"l2 ： トレーラ輪距の1/2の値",{"$f":"最回半数値一覧!F11","v":0},"mm",null,{"$f":"_xlfn.FORMULATEXT(C7)","v":"=最回半数値一覧!F11"}]
[null,"S ： トラクタカプラオフセット",{"$f":"最回半数値一覧!G3","v":0},"mm",null,"=最回半数値一覧!G3"]
[null,"トレーラ軸数",{"$f":"最回半数値一覧!G11","v":0},"軸",null,"=最回半数値一覧!G11"]
[null,"ＤＬ ： トレーラタンデム(後軸)中心線から、旋回中心までの距離",{"$f":"IF(C9=1,0,IF(C9=2,300,IF(C9=3,300,\" \")))","v":" "},"mm",null,"=IF(C9=1,0,IF(C9=2,300,IF(C9=3,300,\" \")))"]
[null,"Ｌi ： カプラ中心から旋回中心までの前後距離",{"$f":"IFERROR(IF(C5=\"\",\"\",C5+C10),\"\")","v":""},"mm",null,"=IFERROR(IF(C5=\"\",\"\",C5+C10),\"\")"]
[null,"Ｌｃ ： 計算上過程上必要な値",{"$f":"IFERROR(IF(C5=\"\",\"\",(C11^2+C7^2-C8^2)^0.5),\"\")","v":""},"mm",null,"=IFERROR(IF(C5=\"\",\"\",(C11^2+C7^2-C8^2)^0.5),\"\")"]
[null,null,{"$f":"MID(CELL(\"filename\",A1),FIND(\"]\",CELL(\"filename\",A1))+1,99)","v":"A③"}]
[null,"Ｒ ： 連結時の最小回転半径 ",{"$f":"IF(C5=\"\",\"\",((C4-C8)^2+(C5+C6)^2)^0.5)","v":0},"mm",null,{"$f":"_xlfn.FORMULATEXT(C14)","v":"=IF(C5=\"\",\"\",((C4-C8)^2+(C5+C6)^2)^0.5)"}]

{"sheet":"A④","index":9,"n_rows":14,"n_cols":6,"rows_kept":14,"cut":false,"hidden":false,"merged":[]}
[]
[null,{"$f":"MID(CELL(\"filename\"),FIND(\"[\",CELL(\"filename\"))+1,FIND(\"]\",CELL(\"filename\"))-FIND(\"[\",CELL(\"filename\"))-1)","v":"《雛型》特通システム入力補助シート{ﾄﾗ00ﾄﾚ00合成バン・軸00.00・積00.00・総00.00・v230115-2005}().xlsm"}]
[null,null,{"$f":"MID(CELL(\"filename\",A2),FIND(\"]\",CELL(\"filename\",A2))+1,99)","v":"A④"}]
[null,"Ｌ1 ： トラクタ軸距",{"$f":"最回半数値一覧!E3","v":0},"mm",null,{"$f":"_xlfn.FORMULATEXT(C4)","v":"=最回半数値一覧!E3"}]
[null,"Ｌ2 ： トレーラ軸距",{"$f":"最回半数値一覧!E12","v":0},"mm",null,{"$f":"_xlfn.FORMULATEXT(C5)","v":"=最回半数値一覧!E12"}]
[null,"l1 ： トラクタ前輪輪距の1/2の値",{"$f":"最回半数値一覧!F3","v":0},"mm",null,{"$f":"_xlfn.FORMULATEXT(C6)","v":"=最回半数値一覧!F3"}]
[null,"l2 ： トレーラ輪距の1/2の値",{"$f":"最回半数値一覧!F12","v":0},"mm",null,{"$f":"_xlfn.FORMULATEXT(C7)","v":"=最回半数値一覧!F12"}]
[null,"S ： トラクタカプラオフセット",{"$f":"最回半数値一覧!G3","v":0},"mm",null,"=最回半数値一覧!G3"]
[null,"トレーラ軸数",{"$f":"最回半数値一覧!G12","v":0},"軸",null,"=最回半数値一覧!G12"]
[null,"ＤＬ ： トレーラタンデム(後軸)中心線から、旋回中心までの距離",{"$f":"IF(C9=1,0,IF(C9=2,300,IF(C9=3,300,\" \")))","v":" "},"mm",null,"=IF(C9=1,0,IF(C9=2,300,IF(C9=3,300,\" \")))"]
[null,"Ｌi ： カプラ中心から旋回中心までの前後距離",{"$f":"IFERROR(IF(C5=\"\",\"\",C5+C10),\"\")","v":""},"mm",null,"=IFERROR(IF(C5=\"\",\"\",C5+C10),\"\")"]
[null,"Ｌｃ ： 計算上過程上必要な値",{"$f":"IFERROR(IF(C5=\"\",\"\",(C11^2+C7^2-C8^2)^0.5),\"\")","v":""},"mm",null,"=IFERROR(IF(C5=\"\",\"\",(C11^2+C7^2-C8^2)^0.5),\"\")"]
[null,null,{"$f":"MID(CELL(\"filename\",A1),FIND(\"]\",CELL(\"filename\",A1))+1,99)","v":"A④"}]
[null,"Ｒ ： 連結時の最小回転半径 ",{"$f":"IF(C5=\"\",\"\",((C4-C8)^2+(C5+C6)^2)^0.5)","v":0},"mm",null,{"$f":"_xlfn.FORMULATEXT(C14)","v":"=IF(C5=\"\",\"\",((C4-C8)^2+(C5+C6)^2)^0.5)"}]

{"sheet":"A⑤","index":10,"n_rows":14,"n_cols":6,"rows_kept":14,"cut":false,"hidden":false,"merged":[]}
[]
[null,{"$f":"MID(CELL(\"filename\"),FIND(\"[\",CELL(\"filename\"))+1,FIND(\"]\",CELL(\"filename\"))-FIND(\"[\",CELL(\"filename\"))-1)","v":"《雛型》特通システム入力補助シート{ﾄﾗ00ﾄﾚ00合成バン・軸00.00・積00.00・総00.00・v230115-2005}().xlsm"}]
[null,null,{"$f":"MID(CELL(\"filename\",A2),FIND(\"]\",CELL(\"filename\",A2))+1,99)","v":"A⑤"}]
[null,"Ｌ1 ： トラクタ軸距",{"$f":"最回半数値一覧!E3","v":0},"mm",null,{"$f":"_xlfn.FORMULATEXT(C4)","v":"=最回半数値一覧!E3"}]
[null,"Ｌ2 ： トレーラ軸距",{"$f":"最回半数値一覧!E13","v":0},"mm",null,{"$f":"_xlfn.FORMULATEXT(C5)","v":"=最回半数値一覧!E13"}]
[null,"l1 ： トラクタ前輪輪距の1/2の値",{"$f":"最回半数値一覧!F3","v":0},"mm",null,{"$f":"_xlfn.FORMULATEXT(C6)","v":"=最回半数値一覧!F3"}]
[null,"l2 ： トレーラ輪距の1/2の値",{"$f":"最回半数値一覧!F13","v":0},"mm",null,{"$f":"_xlfn.FORMULATEXT(C7)","v":"=最回半数値一覧!F13"}]
[null,"S ： トラクタカプラオフセット",{"$f":"最回半数値一覧!G3","v":0},"mm",null,"=最回半数値一覧!G3"]
[null,"トレーラ軸数",{"$f":"最回半数値一覧!G13","v":0},"軸",null,"=最回半数値一覧!G13"]
[null,"ＤＬ ： トレーラタンデム(後軸)中心線から、旋回中心までの距離",{"$f":"IF(C9=1,0,IF(C9=2,300,IF(C9=3,300,\" \")))","v":" "},"mm",null,"=IF(C9=1,0,IF(C9=2,300,IF(C9=3,300,\" \")))"]
[null,"Ｌi ： カプラ中心から旋回中心までの前後距離",{"$f":"IFERROR(IF(C5=\"\",\"\",C5+C10),\"\")","v":""},"mm",null,"=IFERROR(IF(C5=\"\",\"\",C5+C10),\"\")"]
[null,"Ｌｃ ： 計算上過程上必要な値",{"$f":"IFERROR(IF(C5=\"\",\"\",(C11^2+C7^2-C8^2)^0.5),\"\")","v":""},"mm",null,"=IFERROR(IF(C5=\"\",\"\",(C11^2+C7^2-C8^2)^0.5),\"\")"]
[null,null,{"$f":"MID(CELL(\"filename\",A1),FIND(\"]\",CELL(\"filename\",A1))+1,99)","v":"A⑤"}]
[null,"Ｒ ： 連結時の最小回転半径 ",{"$f":"IF(C5=\"\",\"\",((C4-C8)^2+(C5+C6)^2)^0.5)","v":0},"mm",null,{"$f":"_xlfn.FORMULATEXT(C14)","v":"=IF(C5=\"\",\"\",((C4-C8)^2+(C5+C6)^2)^0.5)"}]

{"sheet":"B①","index":11,"n_rows":14,"n_cols":6,"rows_kept":14,"cut":false,"hidden":false,"merged":[]}
[]
[null,{"$f":"MID(CELL(\"filename\"),FIND(\"[\",CELL(\"filename\"))+1,FIND(\"]\",CELL(\"filename\"))-FIND(\"[\",CELL(\"filename\"))-1)","v":"《雛型》特通システム入力補助シート{ﾄﾗ00ﾄﾚ00合成バン・軸00.00・積00.00・総00.00・v230115-2005}().xlsm"}]
[null,null,{"$f":"MID(CELL(\"filename\",A2),FIND(\"]\",CELL(\"filename\",A2))+1,99)","v":"B①"}]
[null,"Ｌ1 ： トラクタ軸距",{"$f":"最回半数値一覧!E4","v":0},"mm",null,{"$f":"_xlfn.FORMULATEXT(C4)","v":"=最回半数値一覧!E4"}]
[null,"Ｌ2 ： トレーラ軸距",{"$f":"最回半数値一覧!E9","v":0},"mm",null,{"$f":"_xlfn.FORMULATEXT(C5)","v":"=最回半数値一覧!E9"}]
[null,"l1 ： トラクタ前輪輪距の1/2の値",{"$f":"最回半数値一覧!F4","v":0},"mm",null,{"$f":"_xlfn.FORMULATEXT(C6)","v":"=最回半数値一覧!F4"}]
[null,"l2 ： トレーラ輪距の1/2の値",{"$f":"最回半数値一覧!F9","v":0},"mm",null,{"$f":"_xlfn.FORMULATEXT(C7)","v":"=最回半数値一覧!F9"}]
[null,"S ： トラクタカプラオフセット",{"$f":"最回半数値一覧!G4","v":0},"mm",null,"=最回半数値一覧!G4"]
[null,"トレーラ軸数",{"$f":"最回半数値一覧!G9","v":0},"軸",null,"=最回半数値一覧!G9"]
[null,"ＤＬ ： トレーラタンデム(後軸)中心線から、旋回中心までの距離",{"$f":"IF(C9=1,0,IF(C9=2,300,IF(C9=3,300,\" \")))","v":" "},"mm",null,"=IF(C9=1,0,IF(C9=2,300,IF(C9=3,300,\" \")))"]
[null,"Ｌi ： カプラ中心から旋回中心までの前後距離",{"$f":"IFERROR(IF(C5=\"\",\"\",C5+C10),\"\")","v":""},"mm",null,"=IFERROR(IF(C5=\"\",\"\",C5+C10),\"\")"]
[null,"Ｌｃ ： 計算上過程上必要な値",{"$f":"IFERROR(IF(C5=\"\",\"\",(C11^2+C7^2-C8^2)^0.5),\"\")","v":""},"mm",null,"=IFERROR(IF(C5=\"\",\"\",(C11^2+C7^2-C8^2)^0.5),\"\")"]
[null,null,{"$f":"MID(CELL(\"filename\",A1),FIND(\"]\",CELL(\"filename\",A1))+1,99)","v":"B①"}]
[null,"Ｒ ： 連結時の最小回転半径 ",{"$f":"IF(C5=\"\",\"\",((C4-C8)^2+(C5+C6)^2)^0.5)","v":0},"mm",null,{"$f":"_xlfn.FORMULATEXT(C14)","v":"=IF(C5=\"\",\"\",((C4-C8)^2+(C5+C6)^2)^0.5)"}]

{"sheet":"B②","index":12,"n_rows":14,"n_cols":6,"rows_kept":14,"cut":false,"hidden":false,"merged":[]}
[]
[null,{"$f":"MID(CELL(\"filename\"),FIND(\"[\",CELL(\"filename\"))+1,FIND(\"]\",CELL(\"filename\"))-FIND(\"[\",CELL(\"filename\"))-1)","v":"《雛型》特通システム入力補助シート{ﾄﾗ00ﾄﾚ00合成バン・軸00.00・積00.00・総00.00・v230115-2005}().xlsm"}]
[null,null,{"$f":"MID(CELL(\"filename\",A2),FIND(\"]\",CELL(\"filename\",A2))+1,99)","v":"B②"}]
[null,"Ｌ1 ： トラクタ軸距",{"$f":"最回半数値一覧!E4","v":0},"mm",null,{"$f":"_xlfn.FORMULATEXT(C4)","v":"=最回半数値一覧!E4"}]
[null,"Ｌ2 ： トレーラ軸距",{"$f":"最回半数値一覧!E10","v":0},"mm",null,{"$f":"_xlfn.FORMULATEXT(C5)","v":"=最回半数値一覧!E10"}]
[null,"l1 ： トラクタ前輪輪距の1/2の値",{"$f":"最回半数値一覧!F4","v":0},"mm",null,{"$f":"_xlfn.FORMULATEXT(C6)","v":"=最回半数値一覧!F4"}]
[null,"l2 ： トレーラ輪距の1/2の値",{"$f":"最回半数値一覧!F10","v":0},"mm",null,{"$f":"_xlfn.FORMULATEXT(C7)","v":"=最回半数値一覧!F10"}]
[null,"S ： トラクタカプラオフセット",{"$f":"最回半数値一覧!G4","v":0},"mm",null,"=最回半数値一覧!G4"]
[null,"トレーラ軸数",{"$f":"最回半数値一覧!G10","v":0},"軸",null,"=最回半数値一覧!G10"]
[null,"ＤＬ ： トレーラタンデム(後軸)中心線から、旋回中心までの距離",{"$f":"IF(C9=1,0,IF(C9=2,300,IF(C9=3,300,\" \")))","v":" "},"mm",null,"=IF(C9=1,0,IF(C9=2,300,IF(C9=3,300,\" \")))"]
[null,"Ｌi ： カプラ中心から旋回中心までの前後距離",{"$f":"IFERROR(IF(C5=\"\",\"\",C5+C10),\"\")","v":""},"mm",null,"=IFERROR(IF(C5=\"\",\"\",C5+C10),\"\")"]
[null,"Ｌｃ ： 計算上過程上必要な値",{"$f":"IFERROR(IF(C5=\"\",\"\",(C11^2+C7^2-C8^2)^0.5),\"\")","v":""},"mm",null,"=IFERROR(IF(C5=\"\",\"\",(C11^2+C7^2-C8^2)^0.5),\"\")"]
[null,null,{"$f":"MID(CELL(\"filename\",A1),FIND(\"]\",CELL(\"filename\",A1))+1,99)","v":"B②"}]
[null,"Ｒ ： 連結時の最小回転半径 ",{"$f":"IF(C5=\"\",\"\",((C4-C8)^2+(C5+C6)^2)^0.5)","v":0},"mm",null,{"$f":"_xlfn.FORMULATEXT(C14)","v":"=IF(C5=\"\",\"\",((C4-C8)^2+(C5+C6)^2)^0.5)"}]

{"sheet":"B③","index":13,"n_rows":14,"n_cols":6,"rows_kept":14,"cut":false,"hidden":false,"merged":[]}
[]
[null,{"$f":"MID(CELL(\"filename\"),FIND(\"[\",CELL(\"filename\"))+1,FIND(\"]\",CELL(\"filename\"))-FIND(\"[\",CELL(\"filename\"))-1)","v":"《雛型》特通システム入力補助シート{ﾄﾗ00ﾄﾚ00合成バン・軸00.00・積00.00・総00.00・v230115-2005}().xlsm"}]
[null,null,{"$f":"MID(CELL(\"filename\",A2),FIND(\"]\",CELL(\"filename\",A2))+1,99)","v":"B③"}]
[null,"Ｌ1 ： トラクタ軸距",{"$f":"最回半数値一覧!E4","v":0},"mm",null,{"$f":"_xlfn.FORMULATEXT(C4)","v":"=最回半数値一覧!E4"}]
[null,"Ｌ2 ： トレーラ軸距",{"$f":"最回半数値一覧!E11","v":0},"mm",null,{"$f":"_xlfn.FORMULATEXT(C5)","v":"=最回半数値一覧!E11"}]
[null,"l1 ： トラクタ前輪輪距の1/2の値",{"$f":"最回半数値一覧!F4","v":0},"mm",null,{"$f":"_xlfn.FORMULATEXT(C6)","v":"=最回半数値一覧!F4"}]
[null,"l2 ： トレーラ輪距の1/2の値",{"$f":"最回半数値一覧!F11","v":0},"mm",null,{"$f":"_xlfn.FORMULATEXT(C7)","v":"=最回半数値一覧!F11"}]
[null,"S ： トラクタカプラオフセット",{"$f":"最回半数値一覧!G4","v":0},"mm",null,"=最回半数値一覧!G4"]
[null,"トレーラ軸数",{"$f":"最回半数値一覧!G11","v":0},"軸",null,"=最回半数値一覧!G11"]
[null,"ＤＬ ： トレーラタンデム(後軸)中心線から、旋回中心までの距離",{"$f":"IF(C9=1,0,IF(C9=2,300,IF(C9=3,300,\" \")))","v":" "},"mm",null,"=IF(C9=1,0,IF(C9=2,300,IF(C9=3,300,\" \")))"]
[null,"Ｌi ： カプラ中心から旋回中心までの前後距離",{"$f":"IFERROR(IF(C5=\"\",\"\",C5+C10),\"\")","v":""},"mm",null,"=IFERROR(IF(C5=\"\",\"\",C5+C10),\"\")"]
[null,"Ｌｃ ： 計算上過程上必要な値",{"$f":"IFERROR(IF(C5=\"\",\"\",(C11^2+C7^2-C8^2)^0.5),\"\")","v":""},"mm",null,"=IFERROR(IF(C5=\"\",\"\",(C11^2+C7^2-C8^2)^0.5),\"\")"]
[null,null,{"$f":"MID(CELL(\"filename\",A1),FIND(\"]\",CELL(\"filename\",A1))+1,99)","v":"B③"}]
[null,"Ｒ ： 連結時の最小回転半径 ",{"$f":"IF(C5=\"\",\"\",((C4-C8)^2+(C5+C6)^2)^0.5)","v":0},"mm",null,{"$f":"_xlfn.FORMULATEXT(C14)","v":"=IF(C5=\"\",\"\",((C4-C8)^2+(C5+C6)^2)^0.5)"}]

{"sheet":"B④","index":14,"n_rows":14,"n_cols":6,"rows_kept":14,"cut":false,"hidden":false,"merged":[]}
[]
[null,{"$f":"MID(CELL(\"filename\"),FIND(\"[\",CELL(\"filename\"))+1,FIND(\"]\",CELL(\"filename\"))-FIND(\"[\",CELL(\"filename\"))-1)","v":"《雛型》特通システム入力補助シート{ﾄﾗ00ﾄﾚ00合成バン・軸00.00・積00.00・総00.00・v230115-2005}().xlsm"}]
[null,null,{"$f":"MID(CELL(\"filename\",A2),FIND(\"]\",CELL(\"filename\",A2))+1,99)","v":"B④"}]
[null,"Ｌ1 ： トラクタ軸距",{"$f":"最回半数値一覧!E4","v":0},"mm",null,{"$f":"_xlfn.FORMULATEXT(C4)","v":"=最回半数値一覧!E4"}]
[null,"Ｌ2 ： トレーラ軸距",{"$f":"最回半数値一覧!E12","v":0},"mm",null,{"$f":"_xlfn.FORMULATEXT(C5)","v":"=最回半数値一覧!E12"}]
[null,"l1 ： トラクタ前輪輪距の1/2の値",{"$f":"最回半数値一覧!F4","v":0},"mm",null,{"$f":"_xlfn.FORMULATEXT(C6)","v":"=最回半数値一覧!F4"}]
[null,"l2 ： トレーラ輪距の1/2の値",{"$f":"最回半数値一覧!F12","v":0},"mm",null,{"$f":"_xlfn.FORMULATEXT(C7)","v":"=最回半数値一覧!F12"}]
[null,"S ： トラクタカプラオフセット",{"$f":"最回半数値一覧!G4","v":0},"mm",null,"=最回半数値一覧!G4"]
[null,"トレーラ軸数",{"$f":"最回半数値一覧!G12","v":0},"軸",null,"=最回半数値一覧!G12"]
[null,"ＤＬ ： トレーラタンデム(後軸)中心線から、旋回中心までの距離",{"$f":"IF(C9=1,0,IF(C9=2,300,IF(C9=3,300,\" \")))","v":" "},"mm",null,"=IF(C9=1,0,IF(C9=2,300,IF(C9=3,300,\" \")))"]
[null,"Ｌi ： カプラ中心から旋回中心までの前後距離",{"$f":"IFERROR(IF(C5=\"\",\"\",C5+C10),\"\")","v":""},"mm",null,"=IFERROR(IF(C5=\"\",\"\",C5+C10),\"\")"]
[null,"Ｌｃ ： 計算上過程上必要な値",{"$f":"IFERROR(IF(C5=\"\",\"\",(C11^2+C7^2-C8^2)^0.5),\"\")","v":""},"mm",null,"=IFERROR(IF(C5=\"\",\"\",(C11^2+C7^2-C8^2)^0.5),\"\")"]
[null,null,{"$f":"MID(CELL(\"filename\",A1),FIND(\"]\",CELL(\"filename\",A1))+1,99)","v":"B④"}]
[null,"Ｒ ： 連結時の最小回転半径 ",{"$f":"IF(C5=\"\",\"\",((C4-C8)^2+(C5+C6)^2)^0.5)","v":0},"mm",null,{"$f":"_xlfn.FORMULATEXT(C14)","v":"=IF(C5=\"\",\"\",((C4-C8)^2+(C5+C6)^2)^0.5)"}]

{"sheet":"B⑤","index":15,"n_rows":14,"n_cols":6,"rows_kept":14,"cut":false,"hidden":false,"merged":[]}
[]
[null,{"$f":"MID(CELL(\"filename\"),FIND(\"[\",CELL(\"filename\"))+1,FIND(\"]\",CELL(\"filename\"))-FIND(\"[\",CELL(\"filename\"))-1)","v":"《雛型》特通システム入力補助シート{ﾄﾗ00ﾄﾚ00合成バン・軸00.00・積00.00・総00.00・v230115-2005}().xlsm"}]
[null,null,{"$f":"MID(CELL(\"filename\",A2),FIND(\"]\",CELL(\"filename\",A2))+1,99)","v":"B⑤"}]
[null,"Ｌ1 ： トラクタ軸距",{"$f":"最回半数値一覧!E4","v":0},"mm",null,{"$f":"_xlfn.FORMULATEXT(C4)","v":"=最回半数値一覧!E4"}]
[null,"Ｌ2 ： トレーラ軸距",{"$f":"最回半数値一覧!E13","v":0},"mm",null,{"$f":"_xlfn.FORMULATEXT(C5)","v":"=最回半数値一覧!E13"}]
[null,"l1 ： トラクタ前輪輪距の1/2の値",{"$f":"最回半数値一覧!F4","v":0},"mm",null,{"$f":"_xlfn.FORMULATEXT(C6)","v":"=最回半数値一覧!F4"}]
[null,"l2 ： トレーラ輪距の1/2の値",{"$f":"最回半数値一覧!F13","v":0},"mm",null,{"$f":"_xlfn.FORMULATEXT(C7)","v":"=最回半数値一覧!F13"}]
[null,"S ： トラクタカプラオフセット",{"$f":"最回半数値一覧!G4","v":0},"mm",null,"=最回半数値一覧!G4"]
[null,"トレーラ軸数",{"$f":"最回半数値一覧!G13","v":0},"軸",null,"=最回半数値一覧!G13"]
[null,"ＤＬ ： トレーラタンデム(後軸)中心線から、旋回中心までの距離",{"$f":"IF(C9=1,0,IF(C9=2,300,IF(C9=3,300,\" \")))","v":" "},"mm",null,"=IF(C9=1,0,IF(C9=2,300,IF(C9=3,300,\" \")))"]
[null,"Ｌi ： カプラ中心から旋回中心までの前後距離",{"$f":"IFERROR(IF(C5=\"\",\"\",C5+C10),\"\")","v":""},"mm",null,"=IFERROR(IF(C5=\"\",\"\",C5+C10),\"\")"]
[null,"Ｌｃ ： 計算上過程上必要な値",{"$f":"IFERROR(IF(C5=\"\",\"\",(C11^2+C7^2-C8^2)^0.5),\"\")","v":""},"mm",null,"=IFERROR(IF(C5=\"\",\"\",(C11^2+C7^2-C8^2)^0.5),\"\")"]
[null,null,{"$f":"MID(CELL(\"filename\",A1),FIND(\"]\",CELL(\"filename\",A1))+1,99)","v":"B⑤"}]
[null,"Ｒ ： 連結時の最小回転半径 ",{"$f":"IF(C5=\"\",\"\",((C4-C8)^2+(C5+C6)^2)^0.5)","v":0},"mm",null,{"$f":"_xlfn.FORMULATEXT(C14)","v":"=IF(C5=\"\",\"\",((C4-C8)^2+(C5+C6)^2)^0.5)"}]

{"sheet":"C①","index":16,"n_rows":14,"n_cols":6,"rows_kept":14,"cut":false,"hidden":false,"merged":[]}
[]
[null,{"$f":"MID(CELL(\"filename\"),FIND(\"[\",CELL(\"filename\"))+1,FIND(\"]\",CELL(\"filename\"))-FIND(\"[\",CELL(\"filename\"))-1)","v":"《雛型》特通システム入力補助シート{ﾄﾗ00ﾄﾚ00合成バン・軸00.00・積00.00・総00.00・v230115-2005}().xlsm"}]
[null,null,{"$f":"MID(CELL(\"filename\",A2),FIND(\"]\",CELL(\"filename\",A2))+1,99)","v":"C①"}]
[null,"Ｌ1 ： トラクタ軸距",{"$f":"最回半数値一覧!E5","v":0},"mm",null,{"$f":"_xlfn.FORMULATEXT(C4)","v":"=最回半数値一覧!E5"}]
[null,"Ｌ2 ： トレーラ軸距",{"$f":"最回半数値一覧!E9","v":0},"mm",null,{"$f":"_xlfn.FORMULATEXT(C5)","v":"=最回半数値一覧!E9"}]
[null,"l1 ： トラクタ前輪輪距の1/2の値",{"$f":"最回半数値一覧!F5","v":0},"mm",null,{"$f":"_xlfn.FORMULATEXT(C6)","v":"=最回半数値一覧!F5"}]
[null,"l2 ： トレーラ輪距の1/2の値",{"$f":"最回半数値一覧!F9","v":0},"mm",null,{"$f":"_xlfn.FORMULATEXT(C7)","v":"=最回半数値一覧!F9"}]
[null,"S ： トラクタカプラオフセット",{"$f":"最回半数値一覧!G5","v":0},"mm",null,"=最回半数値一覧!G5"]
[null,"トレーラ軸数",{"$f":"最回半数値一覧!G9","v":0},"軸",null,"=最回半数値一覧!G9"]
[null,"ＤＬ ： トレーラタンデム(後軸)中心線から、旋回中心までの距離",{"$f":"IF(C9=1,0,IF(C9=2,300,IF(C9=3,300,\" \")))","v":" "},"mm",null,"=IF(C9=1,0,IF(C9=2,300,IF(C9=3,300,\" \")))"]
[null,"Ｌi ： カプラ中心から旋回中心までの前後距離",{"$f":"IFERROR(IF(C5=\"\",\"\",C5+C10),\"\")","v":""},"mm",null,"=IFERROR(IF(C5=\"\",\"\",C5+C10),\"\")"]
[null,"Ｌｃ ： 計算上過程上必要な値",{"$f":"IFERROR(IF(C5=\"\",\"\",(C11^2+C7^2-C8^2)^0.5),\"\")","v":""},"mm",null,"=IFERROR(IF(C5=\"\",\"\",(C11^2+C7^2-C8^2)^0.5),\"\")"]
[null,null,{"$f":"MID(CELL(\"filename\",A1),FIND(\"]\",CELL(\"filename\",A1))+1,99)","v":"C①"}]
[null,"Ｒ ： 連結時の最小回転半径 ",{"$f":"IF(C5=\"\",\"\",((C4-C8)^2+(C5+C6)^2)^0.5)","v":0},"mm",null,{"$f":"_xlfn.FORMULATEXT(C14)","v":"=IF(C5=\"\",\"\",((C4-C8)^2+(C5+C6)^2)^0.5)"}]

{"sheet":"C②","index":17,"n_rows":14,"n_cols":6,"rows_kept":14,"cut":false,"hidden":false,"merged":[]}
[]
[null,{"$f":"MID(CELL(\"filename\"),FIND(\"[\",CELL(\"filename\"))+1,FIND(\"]\",CELL(\"filename\"))-FIND(\"[\",CELL(\"filename\"))-1)","v":"《雛型》特通システム入力補助シート{ﾄﾗ00ﾄﾚ00合成バン・軸00.00・積00.00・総00.00・v230115-2005}().xlsm"}]
[null,null,{"$f":"MID(CELL(\"filename\",A2),FIND(\"]\",CELL(\"filename\",A2))+1,99)","v":"C②"}]
[null,"Ｌ1 ： トラクタ軸距",{"$f":"最回半数値一覧!E5","v":0},"mm",null,{"$f":"_xlfn.FORMULATEXT(C4)","v":"=最回半数値一覧!E5"}]
[null,"Ｌ2 ： トレーラ軸距",{"$f":"最回半数値一覧!E10","v":0},"mm",null,{"$f":"_xlfn.FORMULATEXT(C5)","v":"=最回半数値一覧!E10"}]
[null,"l1 ： トラクタ前輪輪距の1/2の値",{"$f":"最回半数値一覧!F5","v":0},"mm",null,{"$f":"_xlfn.FORMULATEXT(C6)","v":"=最回半数値一覧!F5"}]
[null,"l2 ： トレーラ輪距の1/2の値",{"$f":"最回半数値一覧!F10","v":0},"mm",null,{"$f":"_xlfn.FORMULATEXT(C7)","v":"=最回半数値一覧!F10"}]
[null,"S ： トラクタカプラオフセット",{"$f":"最回半数値一覧!G5","v":0},"mm",null,"=最回半数値一覧!G5"]
[null,"トレーラ軸数",{"$f":"最回半数値一覧!G10","v":0},"軸",null,"=最回半数値一覧!G10"]
[null,"ＤＬ ： トレーラタンデム(後軸)中心線から、旋回中心までの距離",{"$f":"IF(C9=1,0,IF(C9=2,300,IF(C9=3,300,\" \")))","v":" "},"mm",null,"=IF(C9=1,0,IF(C9=2,300,IF(C9=3,300,\" \")))"]
[null,"Ｌi ： カプラ中心から旋回中心までの前後距離",{"$f":"IFERROR(IF(C5=\"\",\"\",C5+C10),\"\")","v":""},"mm",null,"=IFERROR(IF(C5=\"\",\"\",C5+C10),\"\")"]
[null,"Ｌｃ ： 計算上過程上必要な値",{"$f":"IFERROR(IF(C5=\"\",\"\",(C11^2+C7^2-C8^2)^0.5),\"\")","v":""},"mm",null,"=IFERROR(IF(C5=\"\",\"\",(C11^2+C7^2-C8^2)^0.5),\"\")"]
[null,null,{"$f":"MID(CELL(\"filename\",A1),FIND(\"]\",CELL(\"filename\",A1))+1,99)","v":"C②"}]
[null,"Ｒ ： 連結時の最小回転半径 ",{"$f":"IF(C5=\"\",\"\",((C4-C8)^2+(C5+C6)^2)^0.5)","v":0},"mm",null,{"$f":"_xlfn.FORMULATEXT(C14)","v":"=IF(C5=\"\",\"\",((C4-C8)^2+(C5+C6)^2)^0.5)"}]

{"sheet":"C③","index":18,"n_rows":14,"n_cols":7,"rows_kept":14,"cut":false,"hidden":false,"merged":[]}
[]
[null,{"$f":"MID(CELL(\"filename\"),FIND(\"[\",CELL(\"filename\"))+1,FIND(\"]\",CELL(\"filename\"))-FIND(\"[\",CELL(\"filename\"))-1)","v":"《雛型》特通システム入力補助シート{ﾄﾗ00ﾄﾚ00合成バン・軸00.00・積00.00・総00.00・v230115-2005}().xlsm"}]
[null,null,{"$f":"MID(CELL(\"filename\",A2),FIND(\"]\",CELL(\"filename\",A2))+1,99)","v":"C③"}]
[null,"Ｌ1 ： トラクタ軸距",{"$f":"最回半数値一覧!E5","v":0},"mm",null,{"$f":"_xlfn.FORMULATEXT(C4)","v":"=最回半数値一覧!E5"}]
[null,"Ｌ2 ： トレーラ軸距",{"$f":"最回半数値一覧!E11","v":0},"mm",null,{"$f":"_xlfn.FORMULATEXT(C5)","v":"=最回半数値一覧!E11"}]
[null,"l1 ： トラクタ前輪輪距の1/2の値",{"$f":"最回半数値一覧!F5","v":0},"mm",null,{"$f":"_xlfn.FORMULATEXT(C6)","v":"=最回半数値一覧!F5"}]
[null,"l2 ： トレーラ輪距の1/2の値",{"$f":"最回半数値一覧!F11","v":0},"mm",null,{"$f":"_xlfn.FORMULATEXT(C7)","v":"=最回半数値一覧!F11"}]
[null,"S ： トラクタカプラオフセット",{"$f":"最回半数値一覧!G5","v":0},"mm",null,"=最回半数値一覧!G5"]
[null,"トレーラ軸数",{"$f":"最回半数値一覧!G11","v":0},"軸",null,"=最回半数値一覧!G11"]
[null,"ＤＬ ： トレーラタンデム(後軸)中心線から、旋回中心までの距離",{"$f":"IF(C9=1,0,IF(C9=2,300,IF(C9=3,300,\" \")))","v":" "},"mm",null,"=IF(C9=1,0,IF(C9=2,300,IF(C9=3,300,\" \")))"]
[null,"Ｌi ： カプラ中心から旋回中心までの前後距離",{"$f":"IFERROR(IF(C5=\"\",\"\",C5+C10),\"\")","v":""},"mm",null,"=IFERROR(IF(C5=\"\",\"\",C5+C10),\"\")"]
[null,"Ｌｃ ： 計算上過程上必要な値",{"$f":"IFERROR(IF(C5=\"\",\"\",(C11^2+C7^2-C8^2)^0.5),\"\")","v":""},"mm",null,"=IFERROR(IF(C5=\"\",\"\",(C11^2+C7^2-C8^2)^0.5),\"\")"]
[null,null,{"$f":"MID(CELL(\"filename\",A1),FIND(\"]\",CELL(\"filename\",A1))+1,99)","v":"C③"}]
[null,"Ｒ ： 連結時の最小回転半径 ",{"$f":"IF(C5=\"\",\"\",((C4-C8)^2+(C5+C6)^2)^0.5)","v":0},"mm",null,{"$f":"_xlfn.FORMULATEXT(C14)","v":"=IF(C5=\"\",\"\",((C4-C8)^2+(C5+C6)^2)^0.5)"},"　IF(C5=\"\",\"\",((C4-C8)^2+(C5+C6)^2)^0.5)"]

{"sheet":"C④","index":19,"n_rows":14,"n_cols":6,"rows_kept":14,"cut":false,"hidden":false,"merged":[]}
[]
[null,{"$f":"MID(CELL(\"filename\"),FIND(\"[\",CELL(\"filename\"))+1,FIND(\"]\",CELL(\"filename\"))-FIND(\"[\",CELL(\"filename\"))-1)","v":"《雛型》特通システム入力補助シート{ﾄﾗ00ﾄﾚ00合成バン・軸00.00・積00.00・総00.00・v230115-2005}().xlsm"}]
[null,null,{"$f":"MID(CELL(\"filename\",A2),FIND(\"]\",CELL(\"filename\",A2))+1,99)","v":"C④"}]
[null,"Ｌ1 ： トラクタ軸距",{"$f":"最回半数値一覧!E5","v":0},"mm",null,{"$f":"_xlfn.FORMULATEXT(C4)","v":"=最回半数値一覧!E5"}]
[null,"Ｌ2 ： トレーラ軸距",{"$f":"最回半数値一覧!E12","v":0},"mm",null,{"$f":"_xlfn.FORMULATEXT(C5)","v":"=最回半数値一覧!E12"}]
[null,"l1 ： トラクタ前輪輪距の1/2の値",{"$f":"最回半数値一覧!F5","v":0},"mm",null,{"$f":"_xlfn.FORMULATEXT(C6)","v":"=最回半数値一覧!F5"}]
[null,"l2 ： トレーラ輪距の1/2の値",{"$f":"最回半数値一覧!F12","v":0},"mm",null,{"$f":"_xlfn.FORMULATEXT(C7)","v":"=最回半数値一覧!F12"}]
[null,"S ： トラクタカプラオフセット",{"$f":"最回半数値一覧!G5","v":0},"mm",null,"=最回半数値一覧!G5"]
[null,"トレーラ軸数",{"$f":"最回半数値一覧!G12","v":0},"軸",null,"=最回半数値一覧!G12"]
[null,"ＤＬ ： トレーラタンデム(後軸)中心線から、旋回中心までの距離",{"$f":"IF(C9=1,0,IF(C9=2,300,IF(C9=3,300,\" \")))","v":" "},"mm",null,"=IF(C9=1,0,IF(C9=2,300,IF(C9=3,300,\" \")))"]
[null,"Ｌi ： カプラ中心から旋回中心までの前後距離",{"$f":"IFERROR(IF(C5=\"\",\"\",C5+C10),\"\")","v":""},"mm",null,"=IFERROR(IF(C5=\"\",\"\",C5+C10),\"\")"]
[null,"Ｌｃ ： 計算上過程上必要な値",{"$f":"IFERROR(IF(C5=\"\",\"\",(C11^2+C7^2-C8^2)^0.5),\"\")","v":""},"mm",null,"=IFERROR(IF(C5=\"\",\"\",(C11^2+C7^2-C8^2)^0.5),\"\")"]
[null,null,{"$f":"MID(CELL(\"filename\",A1),FIND(\"]\",CELL(\"filename\",A1))+1,99)","v":"C④"}]
[null,"Ｒ ： 連結時の最小回転半径 ",{"$f":"IF(C5=\"\",\"\",((C4-C8)^2+(C5+C6)^2)^0.5)","v":0},"mm",null,{"$f":"_xlfn.FORMULATEXT(C14)","v":"=IF(C5=\"\",\"\",((C4-C8)^2+(C5+C6)^2)^0.5)"}]

{"sheet":"C⑤","index":20,"n_rows":14,"n_cols":6,"rows_kept":14,"cut":false,"hidden":false,"merged":[]}
[]
[null,{"$f":"MID(CELL(\"filename\"),FIND(\"[\",CELL(\"filename\"))+1,FIND(\"]\",CELL(\"filename\"))-FIND(\"[\",CELL(\"filename\"))-1)","v":"《雛型》特通システム入力補助シート{ﾄﾗ00ﾄﾚ00合成バン・軸00.00・積00.00・総00.00・v230115-2005}().xlsm"}]
[null,null,{"$f":"MID(CELL(\"filename\",A2),FIND(\"]\",CELL(\"filename\",A2))+1,99)","v":"C⑤"}]
[null,"Ｌ1 ： トラクタ軸距",{"$f":"最回半数値一覧!E5","v":0},"mm",null,{"$f":"_xlfn.FORMULATEXT(C4)","v":"=最回半数値一覧!E5"}]
[null,"Ｌ2 ： トレーラ軸距",{"$f":"最回半数値一覧!E13","v":0},"mm",null,{"$f":"_xlfn.FORMULATEXT(C5)","v":"=最回半数値一覧!E13"}]
[null,"l1 ： トラクタ前輪輪距の1/2の値",{"$f":"最回半数値一覧!F5","v":0},"mm",null,{"$f":"_xlfn.FORMULATEXT(C6)","v":"=最回半数値一覧!F5"}]
[null,"l2 ： トレーラ輪距の1/2の値",{"$f":"最回半数値一覧!F13","v":0},"mm",null,{"$f":"_xlfn.FORMULATEXT(C7)","v":"=最回半数値一覧!F13"}]
[null,"S ： トラクタカプラオフセット",{"$f":"最回半数値一覧!G5","v":0},"mm",null,"=最回半数値一覧!G5"]
[null,"トレーラ軸数",{"$f":"最回半数値一覧!G13","v":0},"軸",null,"=最回半数値一覧!G13"]
[null,"ＤＬ ： トレーラタンデム(後軸)中心線から、旋回中心までの距離",{"$f":"IF(C9=1,0,IF(C9=2,300,IF(C9=3,300,\" \")))","v":" "},"mm",null,"=IF(C9=1,0,IF(C9=2,300,IF(C9=3,300,\" \")))"]
[null,"Ｌi ： カプラ中心から旋回中心までの前後距離",{"$f":"IFERROR(IF(C5=\"\",\"\",C5+C10),\"\")","v":""},"mm",null,"=IFERROR(IF(C5=\"\",\"\",C5+C10),\"\")"]
[null,"Ｌｃ ： 計算上過程上必要な値",{"$f":"IFERROR(IF(C5=\"\",\"\",(C11^2+C7^2-C8^2)^0.5),\"\")","v":""},"mm",null,"=IFERROR(IF(C5=\"\",\"\",(C11^2+C7^2-C8^2)^0.5),\"\")"]
[null,null,{"$f":"MID(CELL(\"filename\",A1),FIND(\"]\",CELL(\"filename\",A1))+1,99)","v":"C⑤"}]
[null,"Ｒ ： 連結時の最小回転半径 ",{"$f":"IF(C5=\"\",\"\",((C4-C8)^2+(C5+C6)^2)^0.5)","v":0},"mm",null,{"$f":"_xlfn.FORMULATEXT(C14)","v":"=IF(C5=\"\",\"\",((C4-C8)^2+(C5+C6)^2)^0.5)"}]

{"sheet":"D①","index":21,"n_rows":14,"n_cols":6,"rows_kept":14,"cut":false,"hidden":false,"merged":[]}
[]
[null,{"$f":"MID(CELL(\"filename\"),FIND(\"[\",CELL(\"filename\"))+1,FIND(\"]\",CELL(\"filename\"))-FIND(\"[\",CELL(\"filename\"))-1)","v":"《雛型》特通システム入力補助シート{ﾄﾗ00ﾄﾚ00合成バン・軸00.00・積00.00・総00.00・v230115-2005}().xlsm"}]
[null,null,{"$f":"MID(CELL(\"filename\",A2),FIND(\"]\",CELL(\"filename\",A2))+1,99)","v":"D①"}]
[null,"Ｌ1 ： トラクタ軸距",{"$f":"最回半数値一覧!E6","v":0},"mm",null,{"$f":"_xlfn.FORMULATEXT(C4)","v":"=最回半数値一覧!E6"}]
[null,"Ｌ2 ： トレーラ軸距",{"$f":"最回半数値一覧!E9","v":0},"mm",null,{"$f":"_xlfn.FORMULATEXT(C5)","v":"=最回半数値一覧!E9"}]
[null,"l1 ： トラクタ前輪輪距の1/2の値",{"$f":"最回半数値一覧!F6","v":0},"mm",null,{"$f":"_xlfn.FORMULATEXT(C6)","v":"=最回半数値一覧!F6"}]
[null,"l2 ： トレーラ輪距の1/2の値",{"$f":"最回半数値一覧!F9","v":0},"mm",null,{"$f":"_xlfn.FORMULATEXT(C7)","v":"=最回半数値一覧!F9"}]
[null,"S ： トラクタカプラオフセット",{"$f":"最回半数値一覧!G6","v":0},"mm",null,"=最回半数値一覧!G6"]
[null,"トレーラ軸数",{"$f":"最回半数値一覧!G9","v":0},"軸",null,"=最回半数値一覧!G9"]
[null,"ＤＬ ： トレーラタンデム(後軸)中心線から、旋回中心までの距離",{"$f":"IF(C9=1,0,IF(C9=2,300,IF(C9=3,300,\" \")))","v":" "},"mm",null,"=IF(C9=1,0,IF(C9=2,300,IF(C9=3,300,\" \")))"]
[null,"Ｌi ： カプラ中心から旋回中心までの前後距離",{"$f":"IFERROR(IF(C5=\"\",\"\",C5+C10),\"\")","v":""},"mm",null,"=IFERROR(IF(C5=\"\",\"\",C5+C10),\"\")"]
[null,"Ｌｃ ： 計算上過程上必要な値",{"$f":"IFERROR(IF(C5=\"\",\"\",(C11^2+C7^2-C8^2)^0.5),\"\")","v":""},"mm",null,"=IFERROR(IF(C5=\"\",\"\",(C11^2+C7^2-C8^2)^0.5),\"\")"]
[null,null,{"$f":"MID(CELL(\"filename\",A1),FIND(\"]\",CELL(\"filename\",A1))+1,99)","v":"D①"}]
[null,"Ｒ ： 連結時の最小回転半径 ",{"$f":"IF(C5=\"\",\"\",((C4-C8)^2+(C5+C6)^2)^0.5)","v":0},"mm",null,{"$f":"_xlfn.FORMULATEXT(C14)","v":"=IF(C5=\"\",\"\",((C4-C8)^2+(C5+C6)^2)^0.5)"}]

{"sheet":"D②","index":22,"n_rows":14,"n_cols":6,"rows_kept":14,"cut":false,"hidden":false,"merged":[]}
[]
[null,{"$f":"MID(CELL(\"filename\"),FIND(\"[\",CELL(\"filename\"))+1,FIND(\"]\",CELL(\"filename\"))-FIND(\"[\",CELL(\"filename\"))-1)","v":"《雛型》特通システム入力補助シート{ﾄﾗ00ﾄﾚ00合成バン・軸00.00・積00.00・総00.00・v230115-2005}().xlsm"}]
[null,null,{"$f":"MID(CELL(\"filename\",A2),FIND(\"]\",CELL(\"filename\",A2))+1,99)","v":"D②"}]
[null,"Ｌ1 ： トラクタ軸距",{"$f":"最回半数値一覧!E6","v":0},"mm",null,{"$f":"_xlfn.FORMULATEXT(C4)","v":"=最回半数値一覧!E6"}]
[null,"Ｌ2 ： トレーラ軸距",{"$f":"最回半数値一覧!E10","v":0},"mm",null,{"$f":"_xlfn.FORMULATEXT(C5)","v":"=最回半数値一覧!E10"}]
[null,"l1 ： トラクタ前輪輪距の1/2の値",{"$f":"最回半数値一覧!F6","v":0},"mm",null,{"$f":"_xlfn.FORMULATEXT(C6)","v":"=最回半数値一覧!F6"}]
[null,"l2 ： トレーラ輪距の1/2の値",{"$f":"最回半数値一覧!F10","v":0},"mm",null,{"$f":"_xlfn.FORMULATEXT(C7)","v":"=最回半数値一覧!F10"}]
[null,"S ： トラクタカプラオフセット",{"$f":"最回半数値一覧!G6","v":0},"mm",null,"=最回半数値一覧!G6"]
[null,"トレーラ軸数",{"$f":"最回半数値一覧!G10","v":0},"軸",null,"=最回半数値一覧!G10"]
[null,"ＤＬ ： トレーラタンデム(後軸)中心線から、旋回中心までの距離",{"$f":"IF(C9=1,0,IF(C9=2,300,IF(C9=3,300,\" \")))","v":" "},"mm",null,"=IF(C9=1,0,IF(C9=2,300,IF(C9=3,300,\" \")))"]
[null,"Ｌi ： カプラ中心から旋回中心までの前後距離",{"$f":"IFERROR(IF(C5=\"\",\"\",C5+C10),\"\")","v":""},"mm",null,"=IFERROR(IF(C5=\"\",\"\",C5+C10),\"\")"]
[null,"Ｌｃ ： 計算上過程上必要な値",{"$f":"IFERROR(IF(C5=\"\",\"\",(C11^2+C7^2-C8^2)^0.5),\"\")","v":""},"mm",null,"=IFERROR(IF(C5=\"\",\"\",(C11^2+C7^2-C8^2)^0.5),\"\")"]
[null,null,{"$f":"MID(CELL(\"filename\",A1),FIND(\"]\",CELL(\"filename\",A1))+1,99)","v":"D②"}]
[null,"Ｒ ： 連結時の最小回転半径 ",{"$f":"IF(C5=\"\",\"\",((C4-C8)^2+(C5+C6)^2)^0.5)","v":0},"mm",null,{"$f":"_xlfn.FORMULATEXT(C14)","v":"=IF(C5=\"\",\"\",((C4-C8)^2+(C5+C6)^2)^0.5)"}]

{"sheet":"D③","index":23,"n_rows":14,"n_cols":6,"rows_kept":14,"cut":false,"hidden":false,"merged":[]}
[]
[null,{"$f":"MID(CELL(\"filename\"),FIND(\"[\",CELL(\"filename\"))+1,FIND(\"]\",CELL(\"filename\"))-FIND(\"[\",CELL(\"filename\"))-1)","v":"《雛型》特通システム入力補助シート{ﾄﾗ00ﾄﾚ00合成バン・軸00.00・積00.00・総00.00・v230115-2005}().xlsm"}]
[null,null,{"$f":"MID(CELL(\"filename\",A2),FIND(\"]\",CELL(\"filename\",A2))+1,99)","v":"D③"}]
[null,"Ｌ1 ： トラクタ軸距",{"$f":"最回半数値一覧!E6","v":0},"mm",null,{"$f":"_xlfn.FORMULATEXT(C4)","v":"=最回半数値一覧!E6"}]
[null,"Ｌ2 ： トレーラ軸距",{"$f":"最回半数値一覧!E11","v":0},"mm",null,{"$f":"_xlfn.FORMULATEXT(C5)","v":"=最回半数値一覧!E11"}]
[null,"l1 ： トラクタ前輪輪距の1/2の値",{"$f":"最回半数値一覧!F6","v":0},"mm",null,{"$f":"_xlfn.FORMULATEXT(C6)","v":"=最回半数値一覧!F6"}]
[null,"l2 ： トレーラ輪距の1/2の値",{"$f":"最回半数値一覧!F11","v":0},"mm",null,{"$f":"_xlfn.FORMULATEXT(C7)","v":"=最回半数値一覧!F11"}]
[null,"S ： トラクタカプラオフセット",{"$f":"最回半数値一覧!G6","v":0},"mm",null,"=最回半数値一覧!G6"]
[null,"トレーラ軸数",{"$f":"最回半数値一覧!G11","v":0},"軸",null,"=最回半数値一覧!G11"]
[null,"ＤＬ ： トレーラタンデム(後軸)中心線から、旋回中心までの距離",{"$f":"IF(C9=1,0,IF(C9=2,300,IF(C9=3,300,\" \")))","v":" "},"mm",null,"=IF(C9=1,0,IF(C9=2,300,IF(C9=3,300,\" \")))"]
[null,"Ｌi ： カプラ中心から旋回中心までの前後距離",{"$f":"IFERROR(IF(C5=\"\",\"\",C5+C10),\"\")","v":""},"mm",null,"=IFERROR(IF(C5=\"\",\"\",C5+C10),\"\")"]
[null,"Ｌｃ ： 計算上過程上必要な値",{"$f":"IFERROR(IF(C5=\"\",\"\",(C11^2+C7^2-C8^2)^0.5),\"\")","v":""},"mm",null,"=IFERROR(IF(C5=\"\",\"\",(C11^2+C7^2-C8^2)^0.5),\"\")"]
[null,null,{"$f":"MID(CELL(\"filename\",A1),FIND(\"]\",CELL(\"filename\",A1))+1,99)","v":"D③"}]
[null,"Ｒ ： 連結時の最小回転半径 ",{"$f":"IF(C5=\"\",\"\",((C4-C8)^2+(C5+C6)^2)^0.5)","v":0},"mm",null,{"$f":"_xlfn.FORMULATEXT(C14)","v":"=IF(C5=\"\",\"\",((C4-C8)^2+(C5+C6)^2)^0.5)"}]

{"sheet":"D④","index":24,"n_rows":14,"n_cols":6,"rows_kept":14,"cut":false,"hidden":false,"merged":[]}
[]
[null,{"$f":"MID(CELL(\"filename\"),FIND(\"[\",CELL(\"filename\"))+1,FIND(\"]\",CELL(\"filename\"))-FIND(\"[\",CELL(\"filename\"))-1)","v":"《雛型》特通システム入力補助シート{ﾄﾗ00ﾄﾚ00合成バン・軸00.00・積00.00・総00.00・v230115-2005}().xlsm"}]
[null,null,{"$f":"MID(CELL(\"filename\",A2),FIND(\"]\",CELL(\"filename\",A2))+1,99)","v":"D④"}]
[null,"Ｌ1 ： トラクタ軸距",{"$f":"最回半数値一覧!E6","v":0},"mm",null,{"$f":"_xlfn.FORMULATEXT(C4)","v":"=最回半数値一覧!E6"}]
[null,"Ｌ2 ： トレーラ軸距",{"$f":"最回半数値一覧!E12","v":0},"mm",null,{"$f":"_xlfn.FORMULATEXT(C5)","v":"=最回半数値一覧!E12"}]
[null,"l1 ： トラクタ前輪輪距の1/2の値",{"$f":"最回半数値一覧!F6","v":0},"mm",null,{"$f":"_xlfn.FORMULATEXT(C6)","v":"=最回半数値一覧!F6"}]
[null,"l2 ： トレーラ輪距の1/2の値",{"$f":"最回半数値一覧!F12","v":0},"mm",null,{"$f":"_xlfn.FORMULATEXT(C7)","v":"=最回半数値一覧!F12"}]
[null,"S ： トラクタカプラオフセット",{"$f":"最回半数値一覧!G6","v":0},"mm",null,"=最回半数値一覧!G6"]
[null,"トレーラ軸数",{"$f":"最回半数値一覧!G12","v":0},"軸",null,"=最回半数値一覧!G12"]
[null,"ＤＬ ： トレーラタンデム(後軸)中心線から、旋回中心までの距離",{"$f":"IF(C9=1,0,IF(C9=2,300,IF(C9=3,300,\" \")))","v":" "},"mm",null,"=IF(C9=1,0,IF(C9=2,300,IF(C9=3,300,\" \")))"]
[null,"Ｌi ： カプラ中心から旋回中心までの前後距離",{"$f":"IFERROR(IF(C5=\"\",\"\",C5+C10),\"\")","v":""},"mm",null,"=IFERROR(IF(C5=\"\",\"\",C5+C10),\"\")"]
[null,"Ｌｃ ： 計算上過程上必要な値",{"$f":"IFERROR(IF(C5=\"\",\"\",(C11^2+C7^2-C8^2)^0.5),\"\")","v":""},"mm",null,"=IFERROR(IF(C5=\"\",\"\",(C11^2+C7^2-C8^2)^0.5),\"\")"]
[null,null,{"$f":"MID(CELL(\"filename\",A1),FIND(\"]\",CELL(\"filename\",A1))+1,99)","v":"D④"}]
[null,"Ｒ ： 連結時の最小回転半径 ",{"$f":"IF(C5=\"\",\"\",((C4-C8)^2+(C5+C6)^2)^0.5)","v":0},"mm",null,{"$f":"_xlfn.FORMULATEXT(C14)","v":"=IF(C5=\"\",\"\",((C4-C8)^2+(C5+C6)^2)^0.5)"}]

{"sheet":"D⑤","index":25,"n_rows":14,"n_cols":6,"rows_kept":14,"cut":false,"hidden":false,"merged":[]}
[]
[null,{"$f":"MID(CELL(\"filename\"),FIND(\"[\",CELL(\"filename\"))+1,FIND(\"]\",CELL(\"filename\"))-FIND(\"[\",CELL(\"filename\"))-1)","v":"《雛型》特通システム入力補助シート{ﾄﾗ00ﾄﾚ00合成バン・軸00.00・積00.00・総00.00・v230115-2005}().xlsm"}]
[null,null,{"$f":"MID(CELL(\"filename\",A2),FIND(\"]\",CELL(\"filename\",A2))+1,99)","v":"D⑤"}]
[null,"Ｌ1 ： トラクタ軸距",{"$f":"最回半数値一覧!E6","v":0},"mm",null,{"$f":"_xlfn.FORMULATEXT(C4)","v":"=最回半数値一覧!E6"}]
[null,"Ｌ2 ： トレーラ軸距",{"$f":"最回半数値一覧!E13","v":0},"mm",null,{"$f":"_xlfn.FORMULATEXT(C5)","v":"=最回半数値一覧!E13"}]
[null,"l1 ： トラクタ前輪輪距の1/2の値",{"$f":"最回半数値一覧!F6","v":0},"mm",null,{"$f":"_xlfn.FORMULATEXT(C6)","v":"=最回半数値一覧!F6"}]
[null,"l2 ： トレーラ輪距の1/2の値",{"$f":"最回半数値一覧!F13","v":0},"mm",null,{"$f":"_xlfn.FORMULATEXT(C7)","v":"=最回半数値一覧!F13"}]
[null,"S ： トラクタカプラオフセット",{"$f":"最回半数値一覧!G6","v":0},"mm",null,"=最回半数値一覧!G6"]
[null,"トレーラ軸数",{"$f":"最回半数値一覧!G13","v":0},"軸",null,"=最回半数値一覧!G13"]
[null,"ＤＬ ： トレーラタンデム(後軸)中心線から、旋回中心までの距離",{"$f":"IF(C9=1,0,IF(C9=2,300,IF(C9=3,300,\" \")))","v":" "},"mm",null,"=IF(C9=1,0,IF(C9=2,300,IF(C9=3,300,\" \")))"]
[null,"Ｌi ： カプラ中心から旋回中心までの前後距離",{"$f":"IFERROR(IF(C5=\"\",\"\",C5+C10),\"\")","v":""},"mm",null,"=IFERROR(IF(C5=\"\",\"\",C5+C10),\"\")"]
[null,"Ｌｃ ： 計算上過程上必要な値",{"$f":"IFERROR(IF(C5=\"\",\"\",(C11^2+C7^2-C8^2)^0.5),\"\")","v":""},"mm",null,"=IFERROR(IF(C5=\"\",\"\",(C11^2+C7^2-C8^2)^0.5),\"\")"]
[null,null,{"$f":"MID(CELL(\"filename\",A1),FIND(\"]\",CELL(\"filename\",A1))+1,99)","v":"D⑤"}]
[null,"Ｒ ： 連結時の最小回転半径 ",{"$f":"IF(C5=\"\",\"\",((C4-C8)^2+(C5+C6)^2)^0.5)","v":0},"mm",null,{"$f":"_xlfn.FORMULATEXT(C14)","v":"=IF(C5=\"\",\"\",((C4-C8)^2+(C5+C6)^2)^0.5)"}]

{"sheet":"E①","index":26,"n_rows":14,"n_cols":6,"rows_kept":14,"cut":false,"hidden":false,"merged":[]}
[]
[null,{"$f":"MID(CELL(\"filename\"),FIND(\"[\",CELL(\"filename\"))+1,FIND(\"]\",CELL(\"filename\"))-FIND(\"[\",CELL(\"filename\"))-1)","v":"《雛型》特通システム入力補助シート{ﾄﾗ00ﾄﾚ00合成バン・軸00.00・積00.00・総00.00・v230115-2005}().xlsm"}]
[null,null,{"$f":"MID(CELL(\"filename\",A2),FIND(\"]\",CELL(\"filename\",A2))+1,99)","v":"E①"}]
[null,"Ｌ1 ： トラクタ軸距",{"$f":"最回半数値一覧!E7","v":0},"mm",null,{"$f":"_xlfn.FORMULATEXT(C4)","v":"=最回半数値一覧!E7"}]
[null,"Ｌ2 ： トレーラ軸距",{"$f":"最回半数値一覧!E9","v":0},"mm",null,{"$f":"_xlfn.FORMULATEXT(C5)","v":"=最回半数値一覧!E9"}]
[null,"l1 ： トラクタ前輪輪距の1/2の値",{"$f":"最回半数値一覧!F7","v":0},"mm",null,{"$f":"_xlfn.FORMULATEXT(C6)","v":"=最回半数値一覧!F7"}]
[null,"l2 ： トレーラ輪距の1/2の値",{"$f":"最回半数値一覧!F9","v":0},"mm",null,{"$f":"_xlfn.FORMULATEXT(C7)","v":"=最回半数値一覧!F9"}]
[null,"S ： トラクタカプラオフセット",{"$f":"最回半数値一覧!G7","v":0},"mm",null,"=最回半数値一覧!G7"]
[null,"トレーラ軸数",{"$f":"最回半数値一覧!G9","v":0},"軸",null,"=最回半数値一覧!G9"]
[null,"ＤＬ ： トレーラタンデム(後軸)中心線から、旋回中心までの距離",{"$f":"IF(C9=1,0,IF(C9=2,300,IF(C9=3,300,\" \")))","v":" "},"mm",null,"=IF(C9=1,0,IF(C9=2,300,IF(C9=3,300,\" \")))"]
[null,"Ｌi ： カプラ中心から旋回中心までの前後距離",{"$f":"IFERROR(IF(C5=\"\",\"\",C5+C10),\"\")","v":""},"mm",null,"=IFERROR(IF(C5=\"\",\"\",C5+C10),\"\")"]
[null,"Ｌｃ ： 計算上過程上必要な値",{"$f":"IFERROR(IF(C5=\"\",\"\",(C11^2+C7^2-C8^2)^0.5),\"\")","v":""},"mm",null,"=IFERROR(IF(C5=\"\",\"\",(C11^2+C7^2-C8^2)^0.5),\"\")"]
[null,null,{"$f":"MID(CELL(\"filename\",A1),FIND(\"]\",CELL(\"filename\",A1))+1,99)","v":"E①"}]
[null,"Ｒ ： 連結時の最小回転半径 ",{"$f":"IF(C5=\"\",\"\",((C4-C8)^2+(C5+C6)^2)^0.5)","v":0},"mm",null,{"$f":"_xlfn.FORMULATEXT(C14)","v":"=IF(C5=\"\",\"\",((C4-C8)^2+(C5+C6)^2)^0.5)"}]

{"sheet":"E②","index":27,"n_rows":14,"n_cols":6,"rows_kept":14,"cut":false,"hidden":false,"merged":[]}
[]
[null,{"$f":"MID(CELL(\"filename\"),FIND(\"[\",CELL(\"filename\"))+1,FIND(\"]\",CELL(\"filename\"))-FIND(\"[\",CELL(\"filename\"))-1)","v":"《雛型》特通システム入力補助シート{ﾄﾗ00ﾄﾚ00合成バン・軸00.00・積00.00・総00.00・v230115-2005}().xlsm"}]
[null,null,{"$f":"MID(CELL(\"filename\",A2),FIND(\"]\",CELL(\"filename\",A2))+1,99)","v":"E②"}]
[null,"Ｌ1 ： トラクタ軸距",{"$f":"最回半数値一覧!E7","v":0},"mm",null,{"$f":"_xlfn.FORMULATEXT(C4)","v":"=最回半数値一覧!E7"}]
[null,"Ｌ2 ： トレーラ軸距",{"$f":"最回半数値一覧!E10","v":0},"mm",null,{"$f":"_xlfn.FORMULATEXT(C5)","v":"=最回半数値一覧!E10"}]
[null,"l1 ： トラクタ前輪輪距の1/2の値",{"$f":"最回半数値一覧!F7","v":0},"mm",null,{"$f":"_xlfn.FORMULATEXT(C6)","v":"=最回半数値一覧!F7"}]
[null,"l2 ： トレーラ輪距の1/2の値",{"$f":"最回半数値一覧!F10","v":0},"mm",null,{"$f":"_xlfn.FORMULATEXT(C7)","v":"=最回半数値一覧!F10"}]
[null,"S ： トラクタカプラオフセット",{"$f":"最回半数値一覧!G7","v":0},"mm",null,"=最回半数値一覧!G7"]
[null,"トレーラ軸数",{"$f":"最回半数値一覧!G10","v":0},"軸",null,"=最回半数値一覧!G10"]
[null,"ＤＬ ： トレーラタンデム(後軸)中心線から、旋回中心までの距離",{"$f":"IF(C9=1,0,IF(C9=2,300,IF(C9=3,300,\" \")))","v":" "},"mm",null,"=IF(C9=1,0,IF(C9=2,300,IF(C9=3,300,\" \")))"]
[null,"Ｌi ： カプラ中心から旋回中心までの前後距離",{"$f":"IFERROR(IF(C5=\"\",\"\",C5+C10),\"\")","v":""},"mm",null,"=IFERROR(IF(C5=\"\",\"\",C5+C10),\"\")"]
[null,"Ｌｃ ： 計算上過程上必要な値",{"$f":"IFERROR(IF(C5=\"\",\"\",(C11^2+C7^2-C8^2)^0.5),\"\")","v":""},"mm",null,"=IFERROR(IF(C5=\"\",\"\",(C11^2+C7^2-C8^2)^0.5),\"\")"]
[null,null,{"$f":"MID(CELL(\"filename\",A1),FIND(\"]\",CELL(\"filename\",A1))+1,99)","v":"E②"}]
[null,"Ｒ ： 連結時の最小回転半径 ",{"$f":"IF(C5=\"\",\"\",((C4-C8)^2+(C5+C6)^2)^0.5)","v":0},"mm",null,{"$f":"_xlfn.FORMULATEXT(C14)","v":"=IF(C5=\"\",\"\",((C4-C8)^2+(C5+C6)^2)^0.5)"}]

{"sheet":"E③","index":28,"n_rows":14,"n_cols":6,"rows_kept":14,"cut":false,"hidden":false,"merged":[]}
[]
[null,{"$f":"MID(CELL(\"filename\"),FIND(\"[\",CELL(\"filename\"))+1,FIND(\"]\",CELL(\"filename\"))-FIND(\"[\",CELL(\"filename\"))-1)","v":"《雛型》特通システム入力補助シート{ﾄﾗ00ﾄﾚ00合成バン・軸00.00・積00.00・総00.00・v230115-2005}().xlsm"}]
[null,null,{"$f":"MID(CELL(\"filename\",A2),FIND(\"]\",CELL(\"filename\",A2))+1,99)","v":"E③"}]
[null,"Ｌ1 ： トラクタ軸距",{"$f":"最回半数値一覧!E7","v":0},"mm",null,{"$f":"_xlfn.FORMULATEXT(C4)","v":"=最回半数値一覧!E7"}]
[null,"Ｌ2 ： トレーラ軸距",{"$f":"最回半数値一覧!E11","v":0},"mm",null,{"$f":"_xlfn.FORMULATEXT(C5)","v":"=最回半数値一覧!E11"}]
[null,"l1 ： トラクタ前輪輪距の1/2の値",{"$f":"最回半数値一覧!F7","v":0},"mm",null,{"$f":"_xlfn.FORMULATEXT(C6)","v":"=最回半数値一覧!F7"}]
[null,"l2 ： トレーラ輪距の1/2の値",{"$f":"最回半数値一覧!F11","v":0},"mm",null,{"$f":"_xlfn.FORMULATEXT(C7)","v":"=最回半数値一覧!F11"}]
[null,"S ： トラクタカプラオフセット",{"$f":"最回半数値一覧!G7","v":0},"mm",null,"=最回半数値一覧!G7"]
[null,"トレーラ軸数",{"$f":"最回半数値一覧!G11","v":0},"軸",null,"=最回半数値一覧!G11"]
[null,"ＤＬ ： トレーラタンデム(後軸)中心線から、旋回中心までの距離",{"$f":"IF(C9=1,0,IF(C9=2,300,IF(C9=3,300,\" \")))","v":" "},"mm",null,"=IF(C9=1,0,IF(C9=2,300,IF(C9=3,300,\" \")))"]
[null,"Ｌi ： カプラ中心から旋回中心までの前後距離",{"$f":"IFERROR(IF(C5=\"\",\"\",C5+C10),\"\")","v":""},"mm",null,"=IFERROR(IF(C5=\"\",\"\",C5+C10),\"\")"]
[null,"Ｌｃ ： 計算上過程上必要な値",{"$f":"IFERROR(IF(C5=\"\",\"\",(C11^2+C7^2-C8^2)^0.5),\"\")","v":""},"mm",null,"=IFERROR(IF(C5=\"\",\"\",(C11^2+C7^2-C8^2)^0.5),\"\")"]
[null,null,{"$f":"MID(CELL(\"filename\",A1),FIND(\"]\",CELL(\"filename\",A1))+1,99)","v":"E③"}]
[null,"Ｒ ： 連結時の最小回転半径 ",{"$f":"IF(C5=\"\",\"\",((C4-C8)^2+(C5+C6)^2)^0.5)","v":0},"mm",null,{"$f":"_xlfn.FORMULATEXT(C14)","v":"=IF(C5=\"\",\"\",((C4-C8)^2+(C5+C6)^2)^0.5)"}]

{"sheet":"E④","index":29,"n_rows":14,"n_cols":6,"rows_kept":14,"cut":false,"hidden":false,"merged":[]}
[]
[null,{"$f":"MID(CELL(\"filename\"),FIND(\"[\",CELL(\"filename\"))+1,FIND(\"]\",CELL(\"filename\"))-FIND(\"[\",CELL(\"filename\"))-1)","v":"《雛型》特通システム入力補助シート{ﾄﾗ00ﾄﾚ00合成バン・軸00.00・積00.00・総00.00・v230115-2005}().xlsm"}]
[null,null,{"$f":"MID(CELL(\"filename\",A2),FIND(\"]\",CELL(\"filename\",A2))+1,99)","v":"E④"}]
[null,"Ｌ1 ： トラクタ軸距",{"$f":"最回半数値一覧!E7","v":0},"mm",null,{"$f":"_xlfn.FORMULATEXT(C4)","v":"=最回半数値一覧!E7"}]
[null,"Ｌ2 ： トレーラ軸距",{"$f":"最回半数値一覧!E12","v":0},"mm",null,{"$f":"_xlfn.FORMULATEXT(C5)","v":"=最回半数値一覧!E12"}]
[null,"l1 ： トラクタ前輪輪距の1/2の値",{"$f":"最回半数値一覧!F7","v":0},"mm",null,{"$f":"_xlfn.FORMULATEXT(C6)","v":"=最回半数値一覧!F7"}]
[null,"l2 ： トレーラ輪距の1/2の値",{"$f":"最回半数値一覧!F12","v":0},"mm",null,{"$f":"_xlfn.FORMULATEXT(C7)","v":"=最回半数値一覧!F12"}]
[null,"S ： トラクタカプラオフセット",{"$f":"最回半数値一覧!G7","v":0},"mm",null,"=最回半数値一覧!G7"]
[null,"トレーラ軸数",{"$f":"最回半数値一覧!G12","v":0},"軸",null,"=最回半数値一覧!G12"]
[null,"ＤＬ ： トレーラタンデム(後軸)中心線から、旋回中心までの距離",{"$f":"IF(C9=1,0,IF(C9=2,300,IF(C9=3,300,\" \")))","v":" "},"mm",null,"=IF(C9=1,0,IF(C9=2,300,IF(C9=3,300,\" \")))"]
[null,"Ｌi ： カプラ中心から旋回中心までの前後距離",{"$f":"IFERROR(IF(C5=\"\",\"\",C5+C10),\"\")","v":""},"mm",null,"=IFERROR(IF(C5=\"\",\"\",C5+C10),\"\")"]
[null,"Ｌｃ ： 計算上過程上必要な値",{"$f":"IFERROR(IF(C5=\"\",\"\",(C11^2+C7^2-C8^2)^0.5),\"\")","v":""},"mm",null,"=IFERROR(IF(C5=\"\",\"\",(C11^2+C7^2-C8^2)^0.5),\"\")"]
[null,null,{"$f":"MID(CELL(\"filename\",A1),FIND(\"]\",CELL(\"filename\",A1))+1,99)","v":"E④"}]
[null,"Ｒ ： 連結時の最小回転半径 ",{"$f":"IF(C5=\"\",\"\",((C4-C8)^2+(C5+C6)^2)^0.5)","v":0},"mm",null,{"$f":"_xlfn.FORMULATEXT(C14)","v":"=IF(C5=\"\",\"\",((C4-C8)^2+(C5+C6)^2)^0.5)"}]

{"sheet":"E⑤","index":30,"n_rows":14,"n_cols":6,"rows_kept":14,"cut":false,"hidden":false,"merged":[]}
[]
[null,{"$f":"MID(CELL(\"filename\"),FIND(\"[\",CELL(\"filename\"))+1,FIND(\"]\",CELL(\"filename\"))-FIND(\"[\",CELL(\"filename\"))-1)","v":"《雛型》特通システム入力補助シート{ﾄﾗ00ﾄﾚ00合成バン・軸00.00・積00.00・総00.00・v230115-2005}().xlsm"}]
[null,null,{"$f":"MID(CELL(\"filename\",A2),FIND(\"]\",CELL(\"filename\",A2))+1,99)","v":"E⑤"}]
[null,"Ｌ1 ： トラクタ軸距",{"$f":"最回半数値一覧!E7","v":0},"mm",null,{"$f":"_xlfn.FORMULATEXT(C4)","v":"=最回半数値一覧!E7"}]
[null,"Ｌ2 ： トレーラ軸距",{"$f":"最回半数値一覧!E13","v":0},"mm",null,{"$f":"_xlfn.FORMULATEXT(C5)","v":"=最回半数値一覧!E13"}]
[null,"l1 ： トラクタ前輪輪距の1/2の値",{"$f":"最回半数値一覧!F7","v":0},"mm",null,{"$f":"_xlfn.FORMULATEXT(C6)","v":"=最回半数値一覧!F7"}]
[null,"l2 ： トレーラ輪距の1/2の値",{"$f":"最回半数値一覧!F13","v":0},"mm",null,{"$f":"_xlfn.FORMULATEXT(C7)","v":"=最回半数値一覧!F13"}]
[null,"S ： トラクタカプラオフセット",{"$f":"最回半数値一覧!G7","v":0},"mm",null,"=最回半数値一覧!G7"]
[null,"トレーラ軸数",{"$f":"最回半数値一覧!G13","v":0},"軸",null,"=最回半数値一覧!G13"]
[null,"ＤＬ ： トレーラタンデム(後軸)中心線から、旋回中心までの距離",{"$f":"IF(C9=1,0,IF(C9=2,300,IF(C9=3,300,\" \")))","v":" "},"mm",null,"=IF(C9=1,0,IF(C9=2,300,IF(C9=3,300,\" \")))"]
[null,"Ｌi ： カプラ中心から旋回中心までの前後距離",{"$f":"IFERROR(IF(C5=\"\",\"\",C5+C10),\"\")","v":""},"mm",null,"=IFERROR(IF(C5=\"\",\"\",C5+C10),\"\")"]
[null,"Ｌｃ ： 計算上過程上必要な値",{"$f":"IFERROR(IF(C5=\"\",\"\",(C11^2+C7^2-C8^2)^0.5),\"\")","v":""},"mm",null,"=IFERROR(IF(C5=\"\",\"\",(C11^2+C7^2-C8^2)^0.5),\"\")"]
[null,null,{"$f":"MID(CELL(\"filename\",A1),FIND(\"]\",CELL(\"filename\",A1))+1,99)","v":"E⑤"}]
[null,"Ｒ ： 連結時の最小回転半径 ",{"$f":"IF(C5=\"\",\"\",((C4-C8)^2+(C5+C6)^2)^0.5)","v":0},"mm",null,{"$f":"_xlfn.FORMULATEXT(C14)","v":"=IF(C5=\"\",\"\",((C4-C8)^2+(C5+C6)^2)^0.5)"}]